BEGIN:VCALENDAR
VERSION:2.0
PRODID:-//Dortmund Kreativ - ECPv6.15.18//NONSGML v1.0//EN
CALSCALE:GREGORIAN
METHOD:PUBLISH
X-WR-CALNAME:Dortmund Kreativ
X-ORIGINAL-URL:https://dortmund-kreativ.de
X-WR-CALDESC:Veranstaltungen für Dortmund Kreativ
REFRESH-INTERVAL;VALUE=DURATION:PT1H
X-Robots-Tag:noindex
X-PUBLISHED-TTL:PT1H
BEGIN:VTIMEZONE
TZID:Europe/Berlin
BEGIN:DAYLIGHT
TZOFFSETFROM:+0100
TZOFFSETTO:+0200
TZNAME:CEST
DTSTART:20220327T010000
END:DAYLIGHT
BEGIN:STANDARD
TZOFFSETFROM:+0200
TZOFFSETTO:+0100
TZNAME:CET
DTSTART:20221030T010000
END:STANDARD
BEGIN:DAYLIGHT
TZOFFSETFROM:+0100
TZOFFSETTO:+0200
TZNAME:CEST
DTSTART:20230326T010000
END:DAYLIGHT
BEGIN:STANDARD
TZOFFSETFROM:+0200
TZOFFSETTO:+0100
TZNAME:CET
DTSTART:20231029T010000
END:STANDARD
BEGIN:DAYLIGHT
TZOFFSETFROM:+0100
TZOFFSETTO:+0200
TZNAME:CEST
DTSTART:20240331T010000
END:DAYLIGHT
BEGIN:STANDARD
TZOFFSETFROM:+0200
TZOFFSETTO:+0100
TZNAME:CET
DTSTART:20241027T010000
END:STANDARD
END:VTIMEZONE
BEGIN:VEVENT
DTSTART;TZID=Europe/Berlin:20231212T190000
DTEND;TZID=Europe/Berlin:20231212T210000
DTSTAMP:20260423T214257
CREATED:20231124T090655Z
LAST-MODIFIED:20231124T090655Z
UID:10122-1702407600-1702414800@dortmund-kreativ.de
SUMMARY:TU DORTMUND ARCHITEKTUR: KEY LECTURES MIT INTERNATIONALEN GÄSTEN
DESCRIPTION:Die Fakultät Architektur und Bauingenieurwesen initiiert ab dem Wintersemester 2023 überregional eine Vortragsreihe\, welche die bisherigen unterschiedlichen Veranstaltungen zusammenfasst und ergänzend mit internationalen Gästen der Architektur Impulsvorträge präsentiert. Der Lehrstuhl Baukonstruktion von Prof. Piet Eckert und Prof. Wim Eckert koordiniert in diesem Jahr diese Premiere. \nIm Rahmen der Key Note Lectures sollen gemeinsam mit Gästen in der Betrachtung des spezifischen Werks die Leistungsfähigkeit respektive die Potentiale der Architektur diskutiert werden. So stellen sich gerade im Kontext der gegenwärtig sozialen\, klimatischen und ökonomischen Herausforderungen große Fragestellungen\, auf die eine zeitgenössische Architektur eingehen muss? \n12.12.23 Jonathan Sergison | Sergison & Bates // London\, Zürich (Ort: SUPERRAUM\, Brückstraße 64)\n06.02.24 Stephanie Bru & Alexandre Theriot // Bruther // Paris (Ort: HANS A\, Hansastraße 6-10)\n14.05.24 Roger Boltshauser // Boltshauser Architekten // Zürich\, München (Ort: SUPERRAUM\, Brückstraße 64) \nDie vielschichtigen und aktuellen Problemstellungen in der Gesellschaft veranlassen uns die verbundenen Herausforderungen in der Architektur in einer breiten Öffentlichkeit zu diskutieren und ggf. zu kalibrieren. Die kommenden Key Lectures sollen im städtischen Kontext verankert werden und richtet sich neben Studierenden und Lehrenden der Fakultät Architektur und Bauingenieurwesen an ein überregionales Fachpublikum und engagierte Bürgerinnen des Ruhrgebiets.\nEintritt ist frei. \nTECHNISCHE UNIVERSITÄT DORTMUND\nFakultät Architektur und Bauingenieurwesen\nLehrstuhl Baukonstruktion\nStudio Piet Eckert und Wim Eckert \nWeitere Infos HIER
URL:https://dortmund-kreativ.de/event/tu-dortmund-architektur-key-lectures-mit-internationalen-gaesten/
LOCATION:SUPERRAUM\, Brückstraße 64\, Dortmund\, 44135\, Deutschland
ATTACH;FMTTYPE=image/jpeg:https://dortmund-kreativ.de/wp-content/uploads/2023/11/231119_Keynote_Lectures8.jpg
END:VEVENT
END:VCALENDAR