BEGIN:VCALENDAR
VERSION:2.0
PRODID:-//Dortmund Kreativ - ECPv6.15.18//NONSGML v1.0//EN
CALSCALE:GREGORIAN
METHOD:PUBLISH
X-WR-CALNAME:Dortmund Kreativ
X-ORIGINAL-URL:https://dortmund-kreativ.de
X-WR-CALDESC:Veranstaltungen für Dortmund Kreativ
REFRESH-INTERVAL;VALUE=DURATION:PT1H
X-Robots-Tag:noindex
X-PUBLISHED-TTL:PT1H
BEGIN:VTIMEZONE
TZID:Europe/Berlin
BEGIN:DAYLIGHT
TZOFFSETFROM:+0100
TZOFFSETTO:+0200
TZNAME:CEST
DTSTART:20200329T010000
END:DAYLIGHT
BEGIN:STANDARD
TZOFFSETFROM:+0200
TZOFFSETTO:+0100
TZNAME:CET
DTSTART:20201025T010000
END:STANDARD
BEGIN:DAYLIGHT
TZOFFSETFROM:+0100
TZOFFSETTO:+0200
TZNAME:CEST
DTSTART:20210328T010000
END:DAYLIGHT
BEGIN:STANDARD
TZOFFSETFROM:+0200
TZOFFSETTO:+0100
TZNAME:CET
DTSTART:20211031T010000
END:STANDARD
BEGIN:DAYLIGHT
TZOFFSETFROM:+0100
TZOFFSETTO:+0200
TZNAME:CEST
DTSTART:20220327T010000
END:DAYLIGHT
BEGIN:STANDARD
TZOFFSETFROM:+0200
TZOFFSETTO:+0100
TZNAME:CET
DTSTART:20221030T010000
END:STANDARD
END:VTIMEZONE
BEGIN:VEVENT
DTSTART;TZID=Europe/Berlin:20210126T160000
DTEND;TZID=Europe/Berlin:20210126T173000
DTSTAMP:20260422T210806
CREATED:20210125T154651Z
LAST-MODIFIED:20210125T154651Z
UID:2823-1611676800-1611682200@dortmund-kreativ.de
SUMMARY:Urheberrecht und VG Bild-Kunst
DESCRIPTION:In Kooperation mit VG Bild-Kunst bietet das LaB K eine Infoveranstaltung zum Themenkomples des Urheber- und Verwertungsrechts an. \nNach einer allgemeinen Auskunft über die Funktion der VG Bild-Kunst beantwortet die Referentin Dr. Anke Schierholz individuelle Fragen. Das Online-Seminar ist kostenloses. Eine verbindliche Anmeldung an info@labk.nrw ist erforderlich.
URL:https://dortmund-kreativ.de/event/urheberrecht-und-vg-bild-kunst/
LOCATION:Digital
CATEGORIES:Architektur,Bildende Kunst,Kreativwirtschaft
END:VEVENT
END:VCALENDAR