BEGIN:VCALENDAR
VERSION:2.0
PRODID:-//Dortmund Kreativ - ECPv6.15.18//NONSGML v1.0//EN
CALSCALE:GREGORIAN
METHOD:PUBLISH
X-WR-CALNAME:Dortmund Kreativ
X-ORIGINAL-URL:https://dortmund-kreativ.de
X-WR-CALDESC:Veranstaltungen für Dortmund Kreativ
REFRESH-INTERVAL;VALUE=DURATION:PT1H
X-Robots-Tag:noindex
X-PUBLISHED-TTL:PT1H
BEGIN:VTIMEZONE
TZID:Europe/Berlin
BEGIN:DAYLIGHT
TZOFFSETFROM:+0100
TZOFFSETTO:+0200
TZNAME:CEST
DTSTART:20240331T010000
END:DAYLIGHT
BEGIN:STANDARD
TZOFFSETFROM:+0200
TZOFFSETTO:+0100
TZNAME:CET
DTSTART:20241027T010000
END:STANDARD
BEGIN:DAYLIGHT
TZOFFSETFROM:+0100
TZOFFSETTO:+0200
TZNAME:CEST
DTSTART:20250330T010000
END:DAYLIGHT
BEGIN:STANDARD
TZOFFSETFROM:+0200
TZOFFSETTO:+0100
TZNAME:CET
DTSTART:20251026T010000
END:STANDARD
BEGIN:DAYLIGHT
TZOFFSETFROM:+0100
TZOFFSETTO:+0200
TZNAME:CEST
DTSTART:20260329T010000
END:DAYLIGHT
BEGIN:STANDARD
TZOFFSETFROM:+0200
TZOFFSETTO:+0100
TZNAME:CET
DTSTART:20261025T010000
END:STANDARD
END:VTIMEZONE
BEGIN:VEVENT
DTSTART;TZID=Europe/Berlin:20251206T130000
DTEND;TZID=Europe/Berlin:20251206T150000
DTSTAMP:20260421T200258
CREATED:20251125T112854Z
LAST-MODIFIED:20251126T110055Z
UID:15617-1765026000-1765033200@dortmund-kreativ.de
SUMMARY:HANS A: Vernissage "10 Jahre MexCoolTour & Fest der Toten Dortmund"
DESCRIPTION:Marisa Alvarez und Virginia Novarin bringen ihre Magie mitten in die Dortmunder Innenstadt: Mit der Installation-Ausstellung „10 Jahre MexCoolTour & Fest der Toten Dortmund“ feiern Marisa und Virginia das Jubiläum zweier erfolgreich etablierter Projekte und präsentieren die künstlerischen Ergebnisse einer Dekade intensiver\, multikultureller und interdisziplinärer Arbeit. \nDie Schau vereint Beiträge zahlreicher eingeladener Künstlerinnen und Gestalterinnen – darunter Josue Partida\, Regina Kammer\, Mar Atzin Sanchez\, Ma. Clementina Rojas\, Enriqueta Martinez (Mayahuel)\, und Institutionen wie Community Music Konzerthaus Do – und macht sichtbar\, wie fruchtbar kreativer Austausch über kulturelle und soziale Grenzen hinweg sein kann. \nDie Ausstellung im Hans A\, direkt im Herzen der Stadt und in unmittelbarer Nähe zum Dortmunder Weihnachtsmarkt\, lädt Besucher*innen dazu ein\, aktiv teilzunehmen: mehrere offene Workshops mit stark partizipativem Charakter bieten Raum für Begegnung\, künstlerische & kulinarische Experimente und das Einbringen eigener kultureller Perspektiven. Die Installation selbst versteht sich als lebendiger Ort der Verbindung\, an dem Gemeinschaft\, Vielfalt und Kooperation erfahrbar werden. \nEine vorherige Anmeldung wird empfohlen unter: info@festdertoten.de \nDas vollständige Programm findet sich auf den Social-Media-Kanälen @festdertoten @mx.marisa und auf www.festdertoten.de \nDie Vernissage findet am 6.12.2025 um 13:00 in Hans A (Hansastr. 6-10\, Dortmund) statt. \nÖffnungszeiten: täglich 16:00 – 19:00 Uhr \nAusstellung Projekt im Rahmen von KOMMEN BLEIBEN GEHEN – Kreative Projekte an temporären Orten. In Kooperation mit DORTMUND KREATIV und Machbarschaft Borsig 11 e.V. \nGefördert durch der Fachberatungsstelle für Migrant*innenorganisationen und Sparkasse Dortmund. \n\n \n 
URL:https://dortmund-kreativ.de/event/vernissage-10-jahre-mexcooltour-fest-der-toten-dortmund/
LOCATION:HANS A\, Hansastraße 6-10\, Dortmund\, 44137
ATTACH;FMTTYPE=image/jpeg:https://dortmund-kreativ.de/wp-content/uploads/2025/11/10-Jahre-Fest-der-Toten_Marisa-Alvarez1-e1765185401297.jpg
END:VEVENT
END:VCALENDAR