BEGIN:VCALENDAR
VERSION:2.0
PRODID:-//Dortmund Kreativ - ECPv6.15.18//NONSGML v1.0//EN
CALSCALE:GREGORIAN
METHOD:PUBLISH
X-WR-CALNAME:Dortmund Kreativ
X-ORIGINAL-URL:https://dortmund-kreativ.de
X-WR-CALDESC:Veranstaltungen für Dortmund Kreativ
REFRESH-INTERVAL;VALUE=DURATION:PT1H
X-Robots-Tag:noindex
X-PUBLISHED-TTL:PT1H
BEGIN:VTIMEZONE
TZID:Europe/Berlin
BEGIN:DAYLIGHT
TZOFFSETFROM:+0100
TZOFFSETTO:+0200
TZNAME:CEST
DTSTART:20240331T010000
END:DAYLIGHT
BEGIN:STANDARD
TZOFFSETFROM:+0200
TZOFFSETTO:+0100
TZNAME:CET
DTSTART:20241027T010000
END:STANDARD
BEGIN:DAYLIGHT
TZOFFSETFROM:+0100
TZOFFSETTO:+0200
TZNAME:CEST
DTSTART:20250330T010000
END:DAYLIGHT
BEGIN:STANDARD
TZOFFSETFROM:+0200
TZOFFSETTO:+0100
TZNAME:CET
DTSTART:20251026T010000
END:STANDARD
BEGIN:DAYLIGHT
TZOFFSETFROM:+0100
TZOFFSETTO:+0200
TZNAME:CEST
DTSTART:20260329T010000
END:DAYLIGHT
BEGIN:STANDARD
TZOFFSETFROM:+0200
TZOFFSETTO:+0100
TZNAME:CET
DTSTART:20261025T010000
END:STANDARD
END:VTIMEZONE
BEGIN:VEVENT
DTSTART;TZID=Europe/Berlin:20250131T130000
DTEND;TZID=Europe/Berlin:20250131T160000
DTSTAMP:20260422T165255
CREATED:20250116T163422Z
LAST-MODIFIED:20250116T163422Z
UID:13709-1738328400-1738339200@dortmund-kreativ.de
SUMMARY:Vernissage: Demenz ein Gesicht geben!
DESCRIPTION:Der Krankheit ein Gesicht und den Betroffenen und Angehörigen eine „visuelle Stimme“ zu geben\, waren die Impulse für das Lüner Netzwerk Demenz diese Ausstellung mit ausdrucksstarken Schwarzweissfotografien zu erstellen. \nDas immer wichtiger werdende Thema Demenz hat mit den 15 Portraits des Fotografen Martin Urner im besten Wortsinn „ein Gesicht“ bekommen. „Wir laden Sie herzlich ein\, in eine Welt einzutauchen\, die oft im Schatten liegt – eine Welt\, in der das Wesen eines Menschen sich durch den Schleier der Demenz kämpft und dennoch strahlt – wie die Sonne durch dichte Wolken.” (Martin Urner) \nDemenz ist ein Thema\, das in der Gesellschaft immer präsenter wird\, denn immer mehr Menschen pflegen und begleiten ihre Angehörigen bis zum Tod. Betroffene berichten\, dass die unterschiedlichen Phasen der Erkrankung auch schöne Momente haben können. Solche Momente wollen die Bilder dieser Ausstellung abbilden. Die s/w-Fotografien von Dimitrij Rudmann geben einen persönlichen Einblick in die tiefe Freundschaft zwischen dem Fotografen und Axel vom Ufer\, einem ehemaligen Charlie Chaplin-Darsteller\, der lebenslang anderen Freude bereitet hat. Rudmann wohnte und pflegte ihn in ihrer gemeinsamen Wohnung und beide erlebten trotz der Krankheit viele schöne Momente miteinander. Besonders die Bilder aus der letzten gemeinsamen Phase zeigen das Wohlbefinden beider und besonders einen Erkrankten\, der zwar spät\, aber umso intensiver sein Glück gefunden hat. \n\n31.01. bis 22.02.2025 \nVernissage am 31.01.2025 um 13 Uhr \nÖffnungszeiten: Montag bis Freitag von 9 bis 21 Uhr \nWilhelm-Hansmann-Haus\, Märkische Straße 21\, 44141 Dortmund \nDer Eintritt ist kostenlos. \nWeitere Infos
URL:https://dortmund-kreativ.de/event/vernissage-demenz-ein-gesicht-geben/
CATEGORIES:Ausstellung,Fotografie
END:VEVENT
END:VCALENDAR