BEGIN:VCALENDAR
VERSION:2.0
PRODID:-//Dortmund Kreativ - ECPv6.15.18//NONSGML v1.0//EN
CALSCALE:GREGORIAN
METHOD:PUBLISH
X-WR-CALNAME:Dortmund Kreativ
X-ORIGINAL-URL:https://dortmund-kreativ.de
X-WR-CALDESC:Veranstaltungen für Dortmund Kreativ
REFRESH-INTERVAL;VALUE=DURATION:PT1H
X-Robots-Tag:noindex
X-PUBLISHED-TTL:PT1H
BEGIN:VTIMEZONE
TZID:Europe/Berlin
BEGIN:DAYLIGHT
TZOFFSETFROM:+0100
TZOFFSETTO:+0200
TZNAME:CEST
DTSTART:20220327T010000
END:DAYLIGHT
BEGIN:STANDARD
TZOFFSETFROM:+0200
TZOFFSETTO:+0100
TZNAME:CET
DTSTART:20221030T010000
END:STANDARD
BEGIN:DAYLIGHT
TZOFFSETFROM:+0100
TZOFFSETTO:+0200
TZNAME:CEST
DTSTART:20230326T010000
END:DAYLIGHT
BEGIN:STANDARD
TZOFFSETFROM:+0200
TZOFFSETTO:+0100
TZNAME:CET
DTSTART:20231029T010000
END:STANDARD
BEGIN:DAYLIGHT
TZOFFSETFROM:+0100
TZOFFSETTO:+0200
TZNAME:CEST
DTSTART:20240331T010000
END:DAYLIGHT
BEGIN:STANDARD
TZOFFSETFROM:+0200
TZOFFSETTO:+0100
TZNAME:CET
DTSTART:20241027T010000
END:STANDARD
END:VTIMEZONE
BEGIN:VEVENT
DTSTART;TZID=Europe/Berlin:20230726T150000
DTEND;TZID=Europe/Berlin:20230726T160000
DTSTAMP:20260424T074614
CREATED:20230724T084034Z
LAST-MODIFIED:20230724T084034Z
UID:8819-1690383600-1690387200@dortmund-kreativ.de
SUMMARY:WAM Infotag DIGITAL
DESCRIPTION:Am Mittwoch 26. Juli 2023 startet der digitale Infotag der Medienakademie WAM um 15:00 über ZOOM. Einfach auf www.wam.de dem Link zum Infotag folgen. \nDer digitale Infotag bietet dir die Möglichkeit\, einen Blick hinter die Kulissen der WAM zu werfen\, dich über die Fachbereiche und Studieninhalte der WAM sowie deine potenziellen Berufsbilder zu informieren und mit Studierenden ins Gespräch zu kommen. \nVorgestellt wird das Live-Online-Studienangebot: Journalismus Online\, Kreatives Schreiben Online\, Illustration Online und Mediendesign Online. Es sind noch Studienplätze frei für das Wintersemester. \nAlle weiteren Infos zur WAM!
URL:https://dortmund-kreativ.de/event/wam-infotag-digital/
LOCATION:Online
CATEGORIES:Designwirtschaft,Digitalisierung,Kreativwirtschaft,Medien,Qualifizierung
END:VEVENT
END:VCALENDAR