BEGIN:VCALENDAR
VERSION:2.0
PRODID:-//Dortmund Kreativ - ECPv6.15.18//NONSGML v1.0//EN
CALSCALE:GREGORIAN
METHOD:PUBLISH
X-WR-CALNAME:Dortmund Kreativ
X-ORIGINAL-URL:https://dortmund-kreativ.de
X-WR-CALDESC:Veranstaltungen für Dortmund Kreativ
REFRESH-INTERVAL;VALUE=DURATION:PT1H
X-Robots-Tag:noindex
X-PUBLISHED-TTL:PT1H
BEGIN:VTIMEZONE
TZID:Europe/Berlin
BEGIN:DAYLIGHT
TZOFFSETFROM:+0100
TZOFFSETTO:+0200
TZNAME:CEST
DTSTART:20220327T010000
END:DAYLIGHT
BEGIN:STANDARD
TZOFFSETFROM:+0200
TZOFFSETTO:+0100
TZNAME:CET
DTSTART:20221030T010000
END:STANDARD
BEGIN:DAYLIGHT
TZOFFSETFROM:+0100
TZOFFSETTO:+0200
TZNAME:CEST
DTSTART:20230326T010000
END:DAYLIGHT
BEGIN:STANDARD
TZOFFSETFROM:+0200
TZOFFSETTO:+0100
TZNAME:CET
DTSTART:20231029T010000
END:STANDARD
BEGIN:DAYLIGHT
TZOFFSETFROM:+0100
TZOFFSETTO:+0200
TZNAME:CEST
DTSTART:20240331T010000
END:DAYLIGHT
BEGIN:STANDARD
TZOFFSETFROM:+0200
TZOFFSETTO:+0100
TZNAME:CET
DTSTART:20241027T010000
END:STANDARD
END:VTIMEZONE
BEGIN:VEVENT
DTSTART;TZID=Europe/Berlin:20231119T110000
DTEND;TZID=Europe/Berlin:20231119T150000
DTSTAMP:20260424T005201
CREATED:20231103T073157Z
LAST-MODIFIED:20231103T073157Z
UID:9968-1700391600-1700406000@dortmund-kreativ.de
SUMMARY:WORKSHOP: EINFÜHRUNG IN DIE AWARENESS ARBEIT
DESCRIPTION:Wie gelingt der Aufbau und die Implementierung von Awareness Arbeit im Veranstaltungskontext? Welche Hürden\, Best Practices und Grenzen gibt es?\nIn einem Workshopformat wird gemeinsam mit Johanna Bauhus\, Expertin für Awarenesskonzepte\, ein Fahrplan und wichtige Impulse erarbeitet\, um Awareness Arbeit\, im Kleinen oder im Großen\, bei zukünftigen Veranstaltungen mitzudenken\, zu beantragen und durchzuführen. Es werden Fragen beantworten\, was ein gutes Awarenesskonzept ausmacht und wie wir mit unseren individuellen Ressourcen dahin kommen.\nDer Workshop soll den Teilnehmenden helfen Bewusstsein für Diskriminierungsformen zu schaffen sowie Handlungsstrategien an die Hand zu geben\, die ermöglichen mit übergriffigem/diskriminierenden Verhalten umzugehen und im besten Fall selbst zu vermeiden. Zudem gucken wir uns konkrete Zahlen\, Daten\, Fakten an: Was bringt ein Awarenesskonzept\, welche Argumente gibt es Zeit\, Geld und Ressourcen zu investieren und wieviel davon braucht es? \nWann: 19. November von 11-15 Uhr\nWo: PROJEKTOR\, Westenhellweg 136\, 44137 Dortmund\nDie Teilnahme ist kostenlos\, die Anzahl an Teilnehmen ist auf 12 Personen begrenzt.\nAnmeldung bis Do\, 16. November 2023 per E-Mail an mdebie@stadtdo.de
URL:https://dortmund-kreativ.de/event/workshop-einfuehrung-in-die-awareness-arbeit/
LOCATION:Projektor\, Westenhellweg 136\, Dortmund\, 44137\, Deutschland
CATEGORIES:Kreativwirtschaft,Musikwirtschaft,Qualifizierung
END:VEVENT
END:VCALENDAR