BEGIN:VCALENDAR
VERSION:2.0
PRODID:-//Dortmund Kreativ - ECPv6.15.18//NONSGML v1.0//EN
CALSCALE:GREGORIAN
METHOD:PUBLISH
X-WR-CALNAME:Dortmund Kreativ
X-ORIGINAL-URL:https://dortmund-kreativ.de
X-WR-CALDESC:Veranstaltungen für Dortmund Kreativ
REFRESH-INTERVAL;VALUE=DURATION:PT1H
X-Robots-Tag:noindex
X-PUBLISHED-TTL:PT1H
BEGIN:VTIMEZONE
TZID:Europe/Berlin
BEGIN:DAYLIGHT
TZOFFSETFROM:+0100
TZOFFSETTO:+0200
TZNAME:CEST
DTSTART:20240331T010000
END:DAYLIGHT
BEGIN:STANDARD
TZOFFSETFROM:+0200
TZOFFSETTO:+0100
TZNAME:CET
DTSTART:20241027T010000
END:STANDARD
BEGIN:DAYLIGHT
TZOFFSETFROM:+0100
TZOFFSETTO:+0200
TZNAME:CEST
DTSTART:20250330T010000
END:DAYLIGHT
BEGIN:STANDARD
TZOFFSETFROM:+0200
TZOFFSETTO:+0100
TZNAME:CET
DTSTART:20251026T010000
END:STANDARD
BEGIN:DAYLIGHT
TZOFFSETFROM:+0100
TZOFFSETTO:+0200
TZNAME:CEST
DTSTART:20260329T010000
END:DAYLIGHT
BEGIN:STANDARD
TZOFFSETFROM:+0200
TZOFFSETTO:+0100
TZNAME:CET
DTSTART:20261025T010000
END:STANDARD
END:VTIMEZONE
BEGIN:VEVENT
DTSTART;TZID=Europe/Berlin:20251026T100000
DTEND;TZID=Europe/Berlin:20251026T170000
DTSTAMP:20260422T004004
CREATED:20250827T063601Z
LAST-MODIFIED:20250827T063601Z
UID:15025-1761472800-1761498000@dortmund-kreativ.de
SUMMARY:WORKSHOP: SZENISCHE LICHTGESTALTUNG MIT EINFACHENMITTELN
DESCRIPTION:Ein Lichtdesign mit klassischen Mitteln der Bühnenbeleuchtung kommt für manche Tanz- und Theaterprojekte nicht infrage – sei es\, da die technische Ausgestattung fehlt\, wegen eines geringen Budgets oder aufgrund eines künstlerischen Interesses an unkonventionellen Lichtelementen. Wer nach Ideen für szenische Lichtgestaltung mit untypischen und einfachen Mitteln sucht\, kann in diesem Workshop Strategien kennenlernen\, Materialien ausprobieren und Fragen stellen. \nDas Bochumer Duo scheinzeitmenschen teilt seine Erfahrungen um Lichtquellen\, die nicht primär für die szenische Beleuchtung gedacht sind\, dafür umzunutzen. Die beiden Künstler*innen stellen Lichtelemente vor\, die leicht zu beschaffen und auch ohne großes technisches Wissen gut einzusetzen sind. Diese testen sie dann gemeinsam mit den Workshopteilnehmer*innen praktisch. Die Teilnehmer*innen sind herzlich eingeladen\, Fragen und Ideen rund um die Lichtgestaltung in Projekten\, an denen sie aktuell arbeiten\, mitzubringen.
URL:https://dortmund-kreativ.de/event/workshop-szenische-lichtgestaltung-mit-einfachenmitteln/
LOCATION:dott e.V.\, Düsseldorfer Str. 18\, Dortmund\, NRW\, 44143\, Deutschland
END:VEVENT
END:VCALENDAR