BEGIN:VCALENDAR
VERSION:2.0
PRODID:-//Dortmund Kreativ - ECPv6.15.18//NONSGML v1.0//EN
CALSCALE:GREGORIAN
METHOD:PUBLISH
X-WR-CALNAME:Dortmund Kreativ
X-ORIGINAL-URL:https://dortmund-kreativ.de
X-WR-CALDESC:Veranstaltungen für Dortmund Kreativ
REFRESH-INTERVAL;VALUE=DURATION:PT1H
X-Robots-Tag:noindex
X-PUBLISHED-TTL:PT1H
BEGIN:VTIMEZONE
TZID:Europe/Berlin
BEGIN:DAYLIGHT
TZOFFSETFROM:+0100
TZOFFSETTO:+0200
TZNAME:CEST
DTSTART:20240331T010000
END:DAYLIGHT
BEGIN:STANDARD
TZOFFSETFROM:+0200
TZOFFSETTO:+0100
TZNAME:CET
DTSTART:20241027T010000
END:STANDARD
BEGIN:DAYLIGHT
TZOFFSETFROM:+0100
TZOFFSETTO:+0200
TZNAME:CEST
DTSTART:20250330T010000
END:DAYLIGHT
BEGIN:STANDARD
TZOFFSETFROM:+0200
TZOFFSETTO:+0100
TZNAME:CET
DTSTART:20251026T010000
END:STANDARD
BEGIN:DAYLIGHT
TZOFFSETFROM:+0100
TZOFFSETTO:+0200
TZNAME:CEST
DTSTART:20260329T010000
END:DAYLIGHT
BEGIN:STANDARD
TZOFFSETFROM:+0200
TZOFFSETTO:+0100
TZNAME:CET
DTSTART:20261025T010000
END:STANDARD
END:VTIMEZONE
BEGIN:VEVENT
DTSTART;TZID=Europe/Berlin:20250930T100000
DTEND;TZID=Europe/Berlin:20250930T160000
DTSTAMP:20260422T032420
CREATED:20250827T063306Z
LAST-MODIFIED:20250827T063306Z
UID:15023-1759226400-1759248000@dortmund-kreativ.de
SUMMARY:WORKSHOP: TECHNICAL RIDER VERSTEHEN & SCHREIBEN
DESCRIPTION:Der Technical Rider ist ein technisches Dokument\, das während einer Stückentwicklung Schritt für Schritt entsteht und ist meist Bestandteil des Gastspielvertrages. \nEr ist eine Informationssammlung\, anhand der die technischen\, personellen und zeitlichen Bedarfe verhandelt werden. Aber wie erstelle ich als Künstler*in eigentlich einen Technical Rider? \nDer freiberufliche Veranstaltungstechniker Pascal Gehrke erarbeitet zusammen mit den Teilnehmenden Was\, Wann\, Wie und an Wen kommuniziert wird\, Wer das tut und Warum. Um ein besseres Verständnis für die Zusammenhänge eines Technical Riders zu erlangen\, werden in diesem Workshop die notwendigen Fachbegriffe erörtert. Er kann als Ausgangspunkt der eigenen Weiterbildung und Professionalisierung verstanden werden.
URL:https://dortmund-kreativ.de/event/workshop-technical-rider-verstehen-schreiben/
LOCATION:Digital
END:VEVENT
END:VCALENDAR