BEGIN:VCALENDAR
VERSION:2.0
PRODID:-//Dortmund Kreativ - ECPv6.15.18//NONSGML v1.0//EN
CALSCALE:GREGORIAN
METHOD:PUBLISH
X-WR-CALNAME:Dortmund Kreativ
X-ORIGINAL-URL:https://dortmund-kreativ.de
X-WR-CALDESC:Veranstaltungen für Dortmund Kreativ
REFRESH-INTERVAL;VALUE=DURATION:PT1H
X-Robots-Tag:noindex
X-PUBLISHED-TTL:PT1H
BEGIN:VTIMEZONE
TZID:Europe/Berlin
BEGIN:DAYLIGHT
TZOFFSETFROM:+0100
TZOFFSETTO:+0200
TZNAME:CEST
DTSTART:20240331T010000
END:DAYLIGHT
BEGIN:STANDARD
TZOFFSETFROM:+0200
TZOFFSETTO:+0100
TZNAME:CET
DTSTART:20241027T010000
END:STANDARD
BEGIN:DAYLIGHT
TZOFFSETFROM:+0100
TZOFFSETTO:+0200
TZNAME:CEST
DTSTART:20250330T010000
END:DAYLIGHT
BEGIN:STANDARD
TZOFFSETFROM:+0200
TZOFFSETTO:+0100
TZNAME:CET
DTSTART:20251026T010000
END:STANDARD
BEGIN:DAYLIGHT
TZOFFSETFROM:+0100
TZOFFSETTO:+0200
TZNAME:CEST
DTSTART:20260329T010000
END:DAYLIGHT
BEGIN:STANDARD
TZOFFSETFROM:+0200
TZOFFSETTO:+0100
TZNAME:CET
DTSTART:20261025T010000
END:STANDARD
END:VTIMEZONE
BEGIN:VEVENT
DTSTART;TZID=Europe/Berlin:20250925T110000
DTEND;TZID=Europe/Berlin:20250925T150000
DTSTAMP:20260422T021151
CREATED:20250827T062957Z
LAST-MODIFIED:20250827T063046Z
UID:15020-1758798000-1758812400@dortmund-kreativ.de
SUMMARY:WORKSHOP: WIE SCHICKE ICH MEIN STÜCK AUF GASTSPIEL?
DESCRIPTION:Wie kommt eine Produktion auf Gastspielreise? Welche Strategien helfen dabei\, Veranstalter*innen anzusprechen\, passende Förderungen zu finden und ein Gastspiel erfolgreich umzusetzen? \nIn diesem praxisorientierten\, digitalen Workshop gibt Ruby Behrmann Einblicke in erprobte Wege der Gastspielakquise – von der gezielten Recherche über die Ansprache von Veranstalter:*nnen bis hin zur konkreten Organisation. Neben praxisnahen Tipps und Tools geht sie individuell auf Fragen der Teilnehmenden ein und teilt wertvolle Erfahrungswerte aus ihrer eigenen Arbeit.
URL:https://dortmund-kreativ.de/event/workshop-wie-schicke-ich-mein-stueck-auf-gastspiel/
LOCATION:Digital
END:VEVENT
END:VCALENDAR