BEGIN:VCALENDAR
VERSION:2.0
PRODID:-//Dortmund Kreativ - ECPv6.15.18//NONSGML v1.0//EN
CALSCALE:GREGORIAN
METHOD:PUBLISH
X-WR-CALNAME:Dortmund Kreativ
X-ORIGINAL-URL:https://dortmund-kreativ.de
X-WR-CALDESC:Veranstaltungen für Dortmund Kreativ
REFRESH-INTERVAL;VALUE=DURATION:PT1H
X-Robots-Tag:noindex
X-PUBLISHED-TTL:PT1H
BEGIN:VTIMEZONE
TZID:Europe/Berlin
BEGIN:DAYLIGHT
TZOFFSETFROM:+0100
TZOFFSETTO:+0200
TZNAME:CEST
DTSTART:20200329T010000
END:DAYLIGHT
BEGIN:STANDARD
TZOFFSETFROM:+0200
TZOFFSETTO:+0100
TZNAME:CET
DTSTART:20201025T010000
END:STANDARD
BEGIN:DAYLIGHT
TZOFFSETFROM:+0100
TZOFFSETTO:+0200
TZNAME:CEST
DTSTART:20210328T010000
END:DAYLIGHT
BEGIN:STANDARD
TZOFFSETFROM:+0200
TZOFFSETTO:+0100
TZNAME:CET
DTSTART:20211031T010000
END:STANDARD
BEGIN:DAYLIGHT
TZOFFSETFROM:+0100
TZOFFSETTO:+0200
TZNAME:CEST
DTSTART:20220327T010000
END:DAYLIGHT
BEGIN:STANDARD
TZOFFSETFROM:+0200
TZOFFSETTO:+0100
TZNAME:CET
DTSTART:20221030T010000
END:STANDARD
END:VTIMEZONE
BEGIN:VEVENT
DTSTART;TZID=Europe/Berlin:20210925T110000
DTEND;TZID=Europe/Berlin:20211017T200000
DTSTAMP:20260425T170348
CREATED:20210920T081849Z
LAST-MODIFIED:20210920T082841Z
UID:4326-1632567600-1634500800@dortmund-kreativ.de
SUMMARY:World Press Photo Ausstellung
DESCRIPTION:Ausstellung der weltbesten Pressefotografien \nJedes Jahr zeichnet die World Press Photo Foundation in einem internationalen Wettbewerb die besten Pressefotografien aus. In einer Wanderausstellung werden die preisgekrönten Fotos rund um den Globus gezeigt und ziehen mehrere Millionen Besucher*innen an. Vom 25.09 bis zum 17.10 zeigt der Kulturort Depot in Kooperation mit DEW21 die Ausstellung in Dortmund. \nDie World Press Photo Ausstellung umfasst über 150 Fotos – es gibt spektakuläre Aufnahmen aus dem Sport\, stille\, poetische Naturbilder und Fotoreportagen\, die ganz intime Einblicke in persönliche Geschichten gewähren. Da alle wichtigen nachrichtenbezogenen Ereignisse des Vorjahres abgebildet sind\, bietet die Ausstellung außerdem einen Rückblick auf das vergangene Jahr. \nDas Hauptziel der World Press Photo Foundation ist die internationale Unterstützung und Förderung professioneller Pressefotograf*innen. \nÖffnungszeiten:\nSO – DO 11 – 20 Uhr\nFR + SA 11 – 22 Uhr \nDie World Press Photo Foundation empfiehlt den Besuch der Ausstellung ab 14 Jahren. \nOrt:\nHalle im Depot \nEintritt:\nNormal 8\,00 €\nErmäßigt 6\,00 €
URL:https://dortmund-kreativ.de/event/world-press-photo-ausstellung/
LOCATION:Depot\, Immermannstraße 29\, Dortmund\, 44147
CATEGORIES:Ausstellung,Bildende Kunst,Fotografie,Kreativwirtschaft
ATTACH;FMTTYPE=image/jpeg:https://dortmund-kreativ.de/wp-content/uploads/2021/09/ic_large_w900h560q85_world-press-photo-2021-ralph-pace.jpg
END:VEVENT
END:VCALENDAR