BEGIN:VCALENDAR
VERSION:2.0
PRODID:-//Dortmund Kreativ - ECPv6.15.18//NONSGML v1.0//EN
CALSCALE:GREGORIAN
METHOD:PUBLISH
X-WR-CALNAME:Dortmund Kreativ
X-ORIGINAL-URL:https://dortmund-kreativ.de
X-WR-CALDESC:Veranstaltungen für Dortmund Kreativ
REFRESH-INTERVAL;VALUE=DURATION:PT1H
X-Robots-Tag:noindex
X-PUBLISHED-TTL:PT1H
BEGIN:VTIMEZONE
TZID:Europe/Berlin
BEGIN:DAYLIGHT
TZOFFSETFROM:+0100
TZOFFSETTO:+0200
TZNAME:CEST
DTSTART:20240331T010000
END:DAYLIGHT
BEGIN:STANDARD
TZOFFSETFROM:+0200
TZOFFSETTO:+0100
TZNAME:CET
DTSTART:20241027T010000
END:STANDARD
BEGIN:DAYLIGHT
TZOFFSETFROM:+0100
TZOFFSETTO:+0200
TZNAME:CEST
DTSTART:20250330T010000
END:DAYLIGHT
BEGIN:STANDARD
TZOFFSETFROM:+0200
TZOFFSETTO:+0100
TZNAME:CET
DTSTART:20251026T010000
END:STANDARD
BEGIN:DAYLIGHT
TZOFFSETFROM:+0100
TZOFFSETTO:+0200
TZNAME:CEST
DTSTART:20260329T010000
END:DAYLIGHT
BEGIN:STANDARD
TZOFFSETFROM:+0200
TZOFFSETTO:+0100
TZNAME:CET
DTSTART:20261025T010000
END:STANDARD
END:VTIMEZONE
BEGIN:VEVENT
DTSTART;TZID=Europe/Berlin:20251004T123000
DTEND;TZID=Europe/Berlin:20251004T153000
DTSTAMP:20260421T194749
CREATED:20250922T072615Z
LAST-MODIFIED:20250922T072615Z
UID:15205-1759581000-1759591800@dortmund-kreativ.de
SUMMARY:Xperimental LAB – Posterworkshop mit Lisa Panitz
DESCRIPTION:Xperimental LAB lädt Gestalter*innen und Designinteressierte dazu ein\, in die Welt der experimentellen Plakatgestaltung einzutauchen. Im Mittelpunkt steht das spielerische Arbeiten mit Typografie und Form – vor allem mit analogen Mitteln wie Collage\, Schere\, Papier\, Kopierer oder der Zeichenmaschine Axidraw. Schritt für Schritt entstehen so individuelle Poster\, die nicht nur gestalterische Techniken vermitteln\, sondern auch dabei helfen\, kreative Blockaden zu überwinden und die eigene visuelle Sprache zu entdecken. \nGerne kann ein eigenes Thema mitgebracht werden – wer noch keines hat\, findet vor Ort Impulse und Anregungen. Ein eigener Laptop kann ebenfalls mitgebracht werden\, ist aber nicht zwingend notwendig. Die Teilnehmerzahl ist auf 10 Personen begrenzt. \nAnmeldung per e-mail an: hallo@dortmund-kreativ.de \nDer Workshop findet im Rahmen der Ausstellung „2+2 Plakatausstellung“ (bis 25.10.1025) im SUPERRAUM statt.
URL:https://dortmund-kreativ.de/event/xperimental-lab-posterworkshop-mit-lisa-panitz/
LOCATION:SUPERRAUM\, Brückstraße 64\, Dortmund\, 44135\, Deutschland
CATEGORIES:Designwirtschaft,DORTMUND KREATIV,Kreativwirtschaft,Netzwerk,SUPERRAUM
END:VEVENT
END:VCALENDAR