BEGIN:VCALENDAR
VERSION:2.0
PRODID:-//Dortmund Kreativ - ECPv6.15.18//NONSGML v1.0//EN
CALSCALE:GREGORIAN
METHOD:PUBLISH
X-WR-CALNAME:Dortmund Kreativ
X-ORIGINAL-URL:https://dortmund-kreativ.de
X-WR-CALDESC:Veranstaltungen für Dortmund Kreativ
REFRESH-INTERVAL;VALUE=DURATION:PT1H
X-Robots-Tag:noindex
X-PUBLISHED-TTL:PT1H
BEGIN:VTIMEZONE
TZID:Europe/Berlin
BEGIN:DAYLIGHT
TZOFFSETFROM:+0100
TZOFFSETTO:+0200
TZNAME:CEST
DTSTART:20200329T010000
END:DAYLIGHT
BEGIN:STANDARD
TZOFFSETFROM:+0200
TZOFFSETTO:+0100
TZNAME:CET
DTSTART:20201025T010000
END:STANDARD
BEGIN:DAYLIGHT
TZOFFSETFROM:+0100
TZOFFSETTO:+0200
TZNAME:CEST
DTSTART:20210328T010000
END:DAYLIGHT
BEGIN:STANDARD
TZOFFSETFROM:+0200
TZOFFSETTO:+0100
TZNAME:CET
DTSTART:20211031T010000
END:STANDARD
BEGIN:DAYLIGHT
TZOFFSETFROM:+0100
TZOFFSETTO:+0200
TZNAME:CEST
DTSTART:20220327T010000
END:DAYLIGHT
BEGIN:STANDARD
TZOFFSETFROM:+0200
TZOFFSETTO:+0100
TZNAME:CET
DTSTART:20221030T010000
END:STANDARD
END:VTIMEZONE
BEGIN:VEVENT
DTSTART;VALUE=DATE:20210503
DTEND;VALUE=DATE:20210508
DTSTAMP:20260422T182023
CREATED:20210323T155427Z
LAST-MODIFIED:20210429T110830Z
UID:3370-1620000000-1620431999@dortmund-kreativ.de
SUMMARY:10. Westfälische Kulturkonferenz
DESCRIPTION:ZUSAMMENKOMMEN! KULTUR GESTALTET ÖFFENTLICHE RÄUME \nDie Corona-Pandemie hat unsere Möglichkeiten\, sich im öffentlichen Raum zu bewegen\, zu begegnen und diesen zu gestalten\, drastisch eingeschränkt. Der damit verbundene Verzicht führt uns vor Augen\, wie essentiell Kultur für unser gesellschaftliches Miteinander ist. Die Krise hat deutlich gemacht: Kultur braucht öffentlichen Raum – und öffentliche Räume brauchen Kultur. \nDie Bedeutung des öffentlichen Raumes als eines gemeinsamen\, gestaltbaren\, demokratischen Raumes war selten so augenfällig und alltagsbestimmend wie in den vergangenen Monaten. Dieses Bewusstsein bietet die Möglichkeit\, Werte und Abläufe zu überprüfen und Rollenverteilungen neu zu denken. Dafür braucht es das Zusammenspiel aller Akteurinnen und Akteure aus Kunst und Kultur\, Bürgerschaft und Politik\, Verwaltung und Förderern. \nAlle sind eingeladen\, an der 10. Westfälischen Kulturkonferenz aktiv mitzuwirken und eine neue Perspektive auf Kunst und Kultur im öffentlichen Raum einzunehmen. Eine ganze Woche lang – digital\, überall in Westfalen-Lippe.
URL:https://dortmund-kreativ.de/event/zusammenkommen-kultur-gestaltet-oeffentliche-raeume/
LOCATION:Digital
CATEGORIES:Designwirtschaft,DORTMUND KREATIV,Kreativwirtschaft,Kunstmarkt,Netzwerk
END:VEVENT
END:VCALENDAR