BEGIN:VCALENDAR
VERSION:2.0
PRODID:-//Dortmund Kreativ - ECPv6.15.18//NONSGML v1.0//EN
CALSCALE:GREGORIAN
METHOD:PUBLISH
X-ORIGINAL-URL:https://dortmund-kreativ.de
X-WR-CALDESC:Veranstaltungen für Dortmund Kreativ
REFRESH-INTERVAL;VALUE=DURATION:PT1H
X-Robots-Tag:noindex
X-PUBLISHED-TTL:PT1H
BEGIN:VTIMEZONE
TZID:Europe/Berlin
BEGIN:DAYLIGHT
TZOFFSETFROM:+0100
TZOFFSETTO:+0200
TZNAME:CEST
DTSTART:20190331T010000
END:DAYLIGHT
BEGIN:STANDARD
TZOFFSETFROM:+0200
TZOFFSETTO:+0100
TZNAME:CET
DTSTART:20191027T010000
END:STANDARD
BEGIN:DAYLIGHT
TZOFFSETFROM:+0100
TZOFFSETTO:+0200
TZNAME:CEST
DTSTART:20200329T010000
END:DAYLIGHT
BEGIN:STANDARD
TZOFFSETFROM:+0200
TZOFFSETTO:+0100
TZNAME:CET
DTSTART:20201025T010000
END:STANDARD
BEGIN:DAYLIGHT
TZOFFSETFROM:+0100
TZOFFSETTO:+0200
TZNAME:CEST
DTSTART:20210328T010000
END:DAYLIGHT
BEGIN:STANDARD
TZOFFSETFROM:+0200
TZOFFSETTO:+0100
TZNAME:CET
DTSTART:20211031T010000
END:STANDARD
END:VTIMEZONE
BEGIN:VEVENT
DTSTART;VALUE=DATE:20201111
DTEND;VALUE=DATE:20201113
DTSTAMP:20260422T200824
CREATED:20201029T105147Z
LAST-MODIFIED:20201029T105147Z
UID:10000144-1605052800-1605225599@dortmund-kreativ.de
SUMMARY:KREATIVES EUROPA fördert KULTUR
DESCRIPTION:KREATIVES EUROPA fördert KULTUR. Wir erklären wie! // 11. + 12. November\nAm 11. und 12. November finden wieder Seminare des CED KULTUR zum Förderprogramm KREATIVES EUROPA KULTUR statt. Die Online-Seminare befassen sich mit folgenden Inhalten: \n• Einführung: Welche Ziele hat das Programm? Welche Aufgaben erfüllt der CED KULTUR?\n• Kulturpolitscher Hintergrund: Wie und was fördert die EU im Kultur- und Kreativsektor?\n• Teilprogramm KULTUR: Welche Förderbereiche gibt es? Wie stelle ich einen Antrag?\n• Zu Gast: Eine geförderte Institution stellt sich vor:\n     11. November: Jacopo Lanteri\, Tanzfabrik Berlin e.V.\n     12. November: Matthias Rettner\, Aktionstheater PAN.OPTIKUM aus Freiburg\n• Praktischer Teil: Was macht eine gute Projektbeschreibung aus? \nEs wird in den Online-Seminaren schwerpunktmäßig um den Förderbereich Europäische Kooperationsprojekte gehen. Die Seminare richten sich an Einsteiger*innen und solche\, die ihre Kenntnisse aktualisieren bzw. vertiefen wollen. Auch wenn nur Organisationen und Einrichtungen antragsberechtigt sind\, profitieren vom Seminar auch einzelne Kulturakteur*innen aller Sparten (Ausnahme: reine Filmbranche) sowie Multiplikator*innen\, zum Beispiel aus Beratungsbüros oder der Verwaltung. \nWie? Die Teilnahme ist nur mit vorheriger Anmeldung bis zum 10. November möglich. Bitte beachten Sie\, dass die Zahl der Teilnehmenden begrenzt ist. \nWo? Online-Meeting über Zoom. \nAlle Informationen zur Veranstaltung findet Ihr hier \n 
URL:https://dortmund-kreativ.de/event/kreatives-europa-foerdert-kultur/
LOCATION:Digital
CATEGORIES:Förderprogramme
END:VEVENT
BEGIN:VEVENT
DTSTART;TZID=Europe/Berlin:20201008T163000
DTEND;TZID=Europe/Berlin:20201008T193000
DTSTAMP:20260422T200824
CREATED:20200924T140328Z
LAST-MODIFIED:20200924T140509Z
UID:10000136-1602174600-1602185400@dortmund-kreativ.de
SUMMARY:Kulturkonferenz: #LookingAhead
DESCRIPTION:  \nUnter dem Titel „Looking Ahead“ veranstaltet der Creative Europe Desk KULTUR am 8. Oktober 2020 eine Online-Konferenz zu neuen Möglichkeiten und Visionen für die EU-Kulturförderung nach COVID-19. \nExpert*innen aus ganz Europa kommen im digitalen Raum zusammen\, um über Unterstützungsmaßnahmen für die Kultur während und nach der Corona-Krise sowie über den neuen Programmzyklus der Förderprogramme Creative Europe\, Horizon Europe und des Europäischen Strukturfonds zu diskutieren. Eröffnet wird die Konferenz von Prof. Monika Grütters\, Staatsministerin und Beauftragte der Bundesregierung für Kultur und Medien\, und Mariya Gabriel\, EU-Kommissarin für Innovation\, Forschung\, Kultur\, Bildung und Jugend. \nFür die Teilnahme ist keine Registrierung notwendig. Den Link zur Online-Konferenz findet man am Veranstaltungstag auf der Website.
URL:https://dortmund-kreativ.de/event/kulturkonferenz-lookingahead/
LOCATION:Digital
CATEGORIES:Ausstellung,Bildende Kunst,Darstellende Kunst,Filmwirtschaft,Förderprogramme,Kreativwirtschaft,Kunstmarkt,Musikwirtschaft
END:VEVENT
END:VCALENDAR