BEGIN:VCALENDAR
VERSION:2.0
PRODID:-//Dortmund Kreativ - ECPv6.15.18//NONSGML v1.0//EN
CALSCALE:GREGORIAN
METHOD:PUBLISH
X-WR-CALNAME:Dortmund Kreativ
X-ORIGINAL-URL:https://dortmund-kreativ.de
X-WR-CALDESC:Veranstaltungen für Dortmund Kreativ
REFRESH-INTERVAL;VALUE=DURATION:PT1H
X-Robots-Tag:noindex
X-PUBLISHED-TTL:PT1H
BEGIN:VTIMEZONE
TZID:Europe/Berlin
BEGIN:DAYLIGHT
TZOFFSETFROM:+0100
TZOFFSETTO:+0200
TZNAME:CEST
DTSTART:20220327T010000
END:DAYLIGHT
BEGIN:STANDARD
TZOFFSETFROM:+0200
TZOFFSETTO:+0100
TZNAME:CET
DTSTART:20221030T010000
END:STANDARD
BEGIN:DAYLIGHT
TZOFFSETFROM:+0100
TZOFFSETTO:+0200
TZNAME:CEST
DTSTART:20230326T010000
END:DAYLIGHT
BEGIN:STANDARD
TZOFFSETFROM:+0200
TZOFFSETTO:+0100
TZNAME:CET
DTSTART:20231029T010000
END:STANDARD
BEGIN:DAYLIGHT
TZOFFSETFROM:+0100
TZOFFSETTO:+0200
TZNAME:CEST
DTSTART:20240331T010000
END:DAYLIGHT
BEGIN:STANDARD
TZOFFSETFROM:+0200
TZOFFSETTO:+0100
TZNAME:CET
DTSTART:20241027T010000
END:STANDARD
END:VTIMEZONE
BEGIN:VEVENT
DTSTART;TZID=Europe/Berlin:20230414T190000
DTEND;TZID=Europe/Berlin:20230414T210000
DTSTAMP:20260425T224729
CREATED:20230405T105207Z
LAST-MODIFIED:20230405T134913Z
UID:10000488-1681498800-1681506000@dortmund-kreativ.de
SUMMARY:Sehnsucht | Hauptrolle Peugeot 404 | eine Reise Durch die Filmgeschichte
DESCRIPTION:Szenen\, Bilder und Erlebnisse\nvon Falko Wübbecke Fotodesign \nNur per Anmeldung an:  info@falko-wuebbecke.de
URL:https://dortmund-kreativ.de/event/sehnsucht-hauptrolle-peugeot-404-eine-reise-durch-die-filmgeschichte/
LOCATION:SUPERRAUM\, Brückstraße 64\, Dortmund\, 44135\, Deutschland
CATEGORIES:Fotografie,Kreativquartiere,Kreativwirtschaft,Netzwerk,SUPERRAUM
ATTACH;FMTTYPE=image/jpeg:https://dortmund-kreativ.de/wp-content/uploads/2023/04/1680622230642.jpeg
ORGANIZER;CN="Falko W%C3%BCbbecke":MAILTO:info@falko-wuebbecke.de
END:VEVENT
END:VCALENDAR