BEGIN:VCALENDAR
VERSION:2.0
PRODID:-//Dortmund Kreativ - ECPv6.15.18//NONSGML v1.0//EN
CALSCALE:GREGORIAN
METHOD:PUBLISH
X-ORIGINAL-URL:https://dortmund-kreativ.de
X-WR-CALDESC:Veranstaltungen für Dortmund Kreativ
REFRESH-INTERVAL;VALUE=DURATION:PT1H
X-Robots-Tag:noindex
X-PUBLISHED-TTL:PT1H
BEGIN:VTIMEZONE
TZID:Europe/Berlin
BEGIN:DAYLIGHT
TZOFFSETFROM:+0100
TZOFFSETTO:+0200
TZNAME:CEST
DTSTART:20210328T010000
END:DAYLIGHT
BEGIN:STANDARD
TZOFFSETFROM:+0200
TZOFFSETTO:+0100
TZNAME:CET
DTSTART:20211031T010000
END:STANDARD
BEGIN:DAYLIGHT
TZOFFSETFROM:+0100
TZOFFSETTO:+0200
TZNAME:CEST
DTSTART:20220327T010000
END:DAYLIGHT
BEGIN:STANDARD
TZOFFSETFROM:+0200
TZOFFSETTO:+0100
TZNAME:CET
DTSTART:20221030T010000
END:STANDARD
BEGIN:DAYLIGHT
TZOFFSETFROM:+0100
TZOFFSETTO:+0200
TZNAME:CEST
DTSTART:20230326T010000
END:DAYLIGHT
BEGIN:STANDARD
TZOFFSETFROM:+0200
TZOFFSETTO:+0100
TZNAME:CET
DTSTART:20231029T010000
END:STANDARD
END:VTIMEZONE
BEGIN:VEVENT
DTSTART;VALUE=DATE:20220506
DTEND;VALUE=DATE:20220509
DTSTAMP:20260424T175918
CREATED:20220506T114000Z
LAST-MODIFIED:20220506T114000Z
UID:10000308-1651795200-1652054399@dortmund-kreativ.de
SUMMARY:Spätfolgen: Vernissage und Filmpremiere
DESCRIPTION:Lucas Boelter ist Maler\, Illustrator\, Grafik Designer und Szenograph. Satirisches Storytelling inszeniert der Dortmunder Künstler sowohl sowohl in seiner selbst produzierten Late Night-Show “Spätfolgen” sowie in seinen Prints und Malereien. \nAm Wochenende vom 06.05. – 08.05. feiert der Dortmunder Künstler nun im Rahmen seiner Ausstellung die Premiere von “Spätfolgen”. \nDazu passend werden Werke\, Requisiten und Gemälde\, welche zum Großteil aus der Show stammen\, ausgestellt. \n𝗪𝗮𝗻𝗻:\nVernissage am Freitag (06.05) ab 18 Uhr \nAusstellung:\nSamstag 07.05. 14:00 – 19:00 Uhr\nSonntag 08.05.\, 13:00 – 17:00 Uhr \n𝗪𝗼:\nBlend Haus\, Töllnerstraße 5a 44135 Dortmund \n𝗘𝗶𝗻𝘁𝗿𝗶𝘁𝘁:\nDer Eintritt ist für alle kostenlos.
URL:https://dortmund-kreativ.de/event/spaetfolgen-vernissage-und-filmpremiere/
LOCATION:blend.haus\, Töllnerstr. 5 a\, Dortmund\, 44135
CATEGORIES:Designwirtschaft,Kreativwirtschaft,Kunstmarkt,Medien
END:VEVENT
END:VCALENDAR