BEGIN:VCALENDAR
VERSION:2.0
PRODID:-//Dortmund Kreativ - ECPv6.15.18//NONSGML v1.0//EN
CALSCALE:GREGORIAN
METHOD:PUBLISH
X-WR-CALNAME:Dortmund Kreativ
X-ORIGINAL-URL:https://dortmund-kreativ.de
X-WR-CALDESC:Veranstaltungen für Dortmund Kreativ
REFRESH-INTERVAL;VALUE=DURATION:PT1H
X-Robots-Tag:noindex
X-PUBLISHED-TTL:PT1H
BEGIN:VTIMEZONE
TZID:Europe/Berlin
BEGIN:DAYLIGHT
TZOFFSETFROM:+0100
TZOFFSETTO:+0200
TZNAME:CEST
DTSTART:20190331T010000
END:DAYLIGHT
BEGIN:STANDARD
TZOFFSETFROM:+0200
TZOFFSETTO:+0100
TZNAME:CET
DTSTART:20191027T010000
END:STANDARD
BEGIN:DAYLIGHT
TZOFFSETFROM:+0100
TZOFFSETTO:+0200
TZNAME:CEST
DTSTART:20200329T010000
END:DAYLIGHT
BEGIN:STANDARD
TZOFFSETFROM:+0200
TZOFFSETTO:+0100
TZNAME:CET
DTSTART:20201025T010000
END:STANDARD
BEGIN:DAYLIGHT
TZOFFSETFROM:+0100
TZOFFSETTO:+0200
TZNAME:CEST
DTSTART:20210328T010000
END:DAYLIGHT
BEGIN:STANDARD
TZOFFSETFROM:+0200
TZOFFSETTO:+0100
TZNAME:CET
DTSTART:20211031T010000
END:STANDARD
END:VTIMEZONE
BEGIN:VEVENT
DTSTART;TZID=Europe/Berlin:20201113T140000
DTEND;TZID=Europe/Berlin:20201113T183000
DTSTAMP:20260422T224358
CREATED:20201109T130945Z
LAST-MODIFIED:20201109T131058Z
UID:10000150-1605276000-1605292200@dortmund-kreativ.de
SUMMARY:BKK-Symposion live - Von der Kunst zu leben
DESCRIPTION:  \nDie wirtschaftliche und soziale Situation von Bildenden Künstler*innen steht im Mittelpunkt des BKK-Symposion „Von der Kunst zu leben“\, das am 13. November 2020 live aus der Akademie der Künste gestreamt wird. \nGrundlage der Diskussion bilden die Ergebnisse einer vom Bundesverband Bildender Künstlerinnen und Künstler durchgeführten Umfrage. Sie zeigen\, dass für sehr viele Künstler*innen die wirtschaftliche Lage schon vor Corona prekär war. Die Pandemie-Auswirkungen haben ab März 2020 die Lage massiv verschärft. Ursache sind zu geringe\, oftmals ungesicherte\, vielfach hybride Einkommen. \nDas Symposion „Von der Kunst zu leben“ geht den Fakten auf den Grund und sucht Lösungsansätze für die Zukunft: Wie kann es zukünftig besser gelingen\, künstlerisches Einkommen zu generieren? Welche Instrumente können Künstler:innen wirksam sozial sichern? Was sind der Gesellschaft Kunst und Kultur wert? An der Diskussion beteiligen sich u.a. der Düsseldorfer Künstler Rainer Eisch\, die Autorin und Publizistin Claudia Cornelsen und der Geschäftsführer des Deutschen Kulturrats Olaf Zimmermann. \nWeitere Infos und Zugang zum Livestream
URL:https://dortmund-kreativ.de/event/bkk-symposion-live-von-der-kunst-zu-leben/
LOCATION:Digital
CATEGORIES:Bildende Kunst
END:VEVENT
BEGIN:VEVENT
DTSTART;TZID=Europe/Berlin:20201111T140000
DTEND;TZID=Europe/Berlin:20201111T160000
DTSTAMP:20260422T224358
CREATED:20201110T085508Z
LAST-MODIFIED:20201110T090427Z
UID:10000017-1605103200-1605110400@dortmund-kreativ.de
SUMMARY:Webinar Social Media Marketing
DESCRIPTION:Die in Dortmund ansässige Initiative Kulturkommunikation bietet an vier Terminen kostenfreie Webinare an und thematisiert\, wie Kulturinstitutionen\, Festivals und Veranstalter auch trotz sinkender Reichweiten mit Facebook® und Instagram® ihr Publikum erreichen und kontinuierlich neue Besucher gewinnen können. \nDie Live-Webinare (Termine unten) geben einen verständlichen Überblick und Einblick\, insbesondere auch für Menschen\, die sich bislang noch nicht oder nur kaum mit dem Thema Social-Media und Online-Marketing befasst haben. \nUm gezielt auf die spezifischen Anforderungen der einzelnen Kultursparten einzugehen\, werden zu den unterschiedlichen Termine spartenspezifische Schwerpunkte gesetzt: Museen\, Galerien und Kunstvereine\, Bühnen (Theater\, Oper\, Ballett und Orchester)\, Festivals und Großveranstaltungen sowie Events zu legen und ganz gezielt auf Zahlen\, Anforderungen\, Strategien und individuellen Fragen für diesen Kulturbereich eingehen zu können. \nMi.\, 11.11.\, 14:00 -16:00 Uhr (für Museen\, Galerien\, Kunstvereine)\nMi.\, 18.11.\, 14:00 -16:00 Uhr (alle Sparten)\nMi.\, 02.12.\, 14:00 -16:00 Uhr (alle Sparten)\nMi.\, 16.12.\, 14:00 -16:00 Uhr (alle Sparten)
URL:https://dortmund-kreativ.de/event/webinar-social-media-marketing-museen-galerien-kunstvereine/2020-11-11/
LOCATION:Digital
CATEGORIES:Gründung,Kreativwirtschaft,Qualifizierung,Werbemarkt
END:VEVENT
BEGIN:VEVENT
DTSTART;VALUE=DATE:20201111
DTEND;VALUE=DATE:20201113
DTSTAMP:20260422T224358
CREATED:20201029T105147Z
LAST-MODIFIED:20201029T105147Z
UID:10000144-1605052800-1605225599@dortmund-kreativ.de
SUMMARY:KREATIVES EUROPA fördert KULTUR
DESCRIPTION:KREATIVES EUROPA fördert KULTUR. Wir erklären wie! // 11. + 12. November\nAm 11. und 12. November finden wieder Seminare des CED KULTUR zum Förderprogramm KREATIVES EUROPA KULTUR statt. Die Online-Seminare befassen sich mit folgenden Inhalten: \n• Einführung: Welche Ziele hat das Programm? Welche Aufgaben erfüllt der CED KULTUR?\n• Kulturpolitscher Hintergrund: Wie und was fördert die EU im Kultur- und Kreativsektor?\n• Teilprogramm KULTUR: Welche Förderbereiche gibt es? Wie stelle ich einen Antrag?\n• Zu Gast: Eine geförderte Institution stellt sich vor:\n     11. November: Jacopo Lanteri\, Tanzfabrik Berlin e.V.\n     12. November: Matthias Rettner\, Aktionstheater PAN.OPTIKUM aus Freiburg\n• Praktischer Teil: Was macht eine gute Projektbeschreibung aus? \nEs wird in den Online-Seminaren schwerpunktmäßig um den Förderbereich Europäische Kooperationsprojekte gehen. Die Seminare richten sich an Einsteiger*innen und solche\, die ihre Kenntnisse aktualisieren bzw. vertiefen wollen. Auch wenn nur Organisationen und Einrichtungen antragsberechtigt sind\, profitieren vom Seminar auch einzelne Kulturakteur*innen aller Sparten (Ausnahme: reine Filmbranche) sowie Multiplikator*innen\, zum Beispiel aus Beratungsbüros oder der Verwaltung. \nWie? Die Teilnahme ist nur mit vorheriger Anmeldung bis zum 10. November möglich. Bitte beachten Sie\, dass die Zahl der Teilnehmenden begrenzt ist. \nWo? Online-Meeting über Zoom. \nAlle Informationen zur Veranstaltung findet Ihr hier \n 
URL:https://dortmund-kreativ.de/event/kreatives-europa-foerdert-kultur/
LOCATION:Digital
CATEGORIES:Förderprogramme
END:VEVENT
BEGIN:VEVENT
DTSTART;TZID=Europe/Berlin:20201109T100000
DTEND;TZID=Europe/Berlin:20201109T120000
DTSTAMP:20260422T224358
CREATED:20201104T111456Z
LAST-MODIFIED:20201104T111642Z
UID:10000146-1604916000-1604923200@dortmund-kreativ.de
SUMMARY:IHK zu DORTMUND: Informationsveranstaltung zur Überbrückungshilfe II
DESCRIPTION:  \nNoch bis zum 31. Dezember 2020 können Unternehmen und Soloselbständige aus dem Bundesprogramm finanzielle Unterstützung beantragen. Welche Förderbedingungen erfüllt sein müssen und wie die Berechnungen für den finanziellen Zuschuss aussehen\, dies zeigt die IHK zu Dortmund am Montag\, den 9. November\, in der Zeit von 10:00 Uhr bis 12:00 Uhr. \nDie Veranstaltung wird komplett virtuell durchgeführt! Die Inhalte können am PC\, dem Laptop oder auch auf dem Tablet in gewohnter Umgebung verfolgt werden. \nDie Veranstaltung wird von der IHK zu Dortmund gemeinsam mit der Steuerberaterkammer Westfalen-Lippe und dem Ministerium für Wirtschaft\, Innovation\, Digitalisierung und Energie des Landes NRW angeboten. \nAlle Infos zur Veranstaltung und zum Live-Stream findet ihr hier!
URL:https://dortmund-kreativ.de/event/ihk-zu-dortmund-informationsveranstaltung-zur-ueberbrueckungshilfe-ii/
LOCATION:Digital
CATEGORIES:Förderprogramme,Kreativwirtschaft
END:VEVENT
BEGIN:VEVENT
DTSTART;TZID=Europe/Berlin:20201106T083000
DTEND;TZID=Europe/Berlin:20201106T133000
DTSTAMP:20260422T224358
CREATED:20200908T134415Z
LAST-MODIFIED:20200908T134627Z
UID:10000053-1604651400-1604669400@dortmund-kreativ.de
SUMMARY:Wissenschaftskonferenz 2020 – Künstliche Intelligenz
DESCRIPTION:  \nAm 6. November 2020 findet die 4. Dortmunder Wissenschaftskonferenz statt. Aufgrund der aktuellen Corona-Situation ist die Konferenz als Digitalkonferenz geplant. Leitthema in diesem Jahr ist „Künstliche Intelligenz“ (KI)\, das als zukünftiges Kompetenzfeld im Rahmen des Masterplans Wissenschaft 2.0 aufgebaut werden soll. \nDie Veranstaltung richtet sich an kleine und mittlere Unternehmen\, die Netzwerkpartner*innen des Masterplans Wissenschaft\, die interessierte Fachöffentlichkeit sowie Pressevertreter*innen. \nIn parallel stattfindenden Themensessions wird das Thema aus verschiedenen Perspektiven (Ethik\, Wissenschaft\, Wirtschaft) – durchaus auch kritisch und unkonventionell – beleuchtet. Für die Teilnehmenden besteht die Möglichkeit\, sich mit Expert*innen zu vernetzen und Chancen und Herausforderungen Künstlicher Intelligenz zu diskutieren. Eine hochkarätige Keynote liefert einen inspirierenden Input. \nModeriert wird die Veranstaltung von Prof. Dr. Michael Steinbrecher (Technische Universität Dortmund). \nWeitere Informationen\, Programm und Anmeldung \n 
URL:https://dortmund-kreativ.de/event/wissenschaftskonferenz-2020-kuenstliche-intelligenz/
LOCATION:Digital
CATEGORIES:Kreativwirtschaft
END:VEVENT
BEGIN:VEVENT
DTSTART;TZID=Europe/Berlin:20201104T140000
DTEND;TZID=Europe/Berlin:20201104T160000
DTSTAMP:20260422T224358
CREATED:20201102T124243Z
LAST-MODIFIED:20201102T124243Z
UID:10000145-1604498400-1604505600@dortmund-kreativ.de
SUMMARY:Online-Debatte ResiliArt
DESCRIPTION:In Kooperation mit der Kulturpolitischen Gesellschaft und den deutschen UNESCO Creative Cities lädt die Deutsche UNESCO-Kommission am 4. November 2020 um 14:00 Uhr zur zweiten Online-Debatte der Serie „ResiliArt: Kunst und Kultur in Zeiten der Covid-19-Pandemie“ ein. \nMaßnahmen zur Eindämmung der Pandemie trafen und treffen den Kunst- und Kulturbereich unmittelbar und anhaltend. Kulturveranstaltungen werden weiterhin abgesagt und Museen vorübergehend geschlossen. Das „Ökosystem“ Kultur ist und war von der Pandemie besonders betroffen. Die Auswirkungen sind insbesondere in unserer unmittelbaren Nähe zu spüren\, nämlich in der lokalen Kunst- und Kulturszene. \nVor diesem Hintergrund organisiert die Deutsche UNESCO-Kommission (DUK) in Zusammenarbeit mit der Kulturpolitischen Gesellschaft und dem UNESCO Creative Cities Netzwerk in dieser Folge der Debatten-Serie „ResiliArt: Kunst und Kultur in Zeiten der Covid-19-Pandemie“ eine Online-Debatte mit dem Thema „Perspektiven für eine vielfältige Kulturlandschaft und nachhaltige Kulturpolitik in Städten und Kommunen“. Künstlerische Beiträge aus den UNESCO Creative Cities Hannover\, Heidelberg und Karlsruhe stehen auch auf dem Programm. \nAlle Infos gibt’s hier.
URL:https://dortmund-kreativ.de/event/online-debatte-resiliart/
LOCATION:Digital
CATEGORIES:Kreativwirtschaft
END:VEVENT
BEGIN:VEVENT
DTSTART;TZID=Europe/Berlin:20201028T100000
DTEND;TZID=Europe/Berlin:20201028T163000
DTSTAMP:20260422T224358
CREATED:20201015T084048Z
LAST-MODIFIED:20201015T084048Z
UID:10000007-1603879200-1603902600@dortmund-kreativ.de
SUMMARY:Fachkonferenz „Demokratie durchgespielt?“
DESCRIPTION:Potenziale von Games für die digitale Gesellschaft. \nDie Stiftung Digitale Spielekultur veranstaltet am 28. Oktober 2020 die Fachkonferenz „Demokratie durchgespielt? Potenziale von Games für die digitale Gesellschaft“. Die vom Medienboard Berlin-Brandenburg geförderte Veranstaltung richtet sich an Expert*innen aus Politik\, Zivilgesellschaft und Games-Branche und stellt einen Tag lang die Frage in den Mittelpunkt\, wie Demokratie im digitalen Zeitalter von Games profitieren kann. Die Konferenz wird komplett digital stattfinden. \nDie ganztägige Veranstaltung wird zur Diskussion stellen\, wie digitale Spiele das politische Verständnis junger Erwachsener schärfen und demokratische Werteorientierungen fördern können. Im Rahmen verschiedener Foren werden Expert*innen aus unterschiedlichen Fachrichtungen Themen wie die Einsatzfelder und Entwicklungsprozesse von Games im Kontext politischer Teilhabe diskutieren. Darüber hinaus stehen auch medienübergreifende Phänomene wie die Gestaltung von Kommunikation und Partizipation im digitalen Raum zur Debatte. \nWeitere Infos und Anmeldung hier
URL:https://dortmund-kreativ.de/event/fachkonferenz-demokratie-durchgespielt/
LOCATION:Digital
CATEGORIES:Kreativwirtschaft,Software/Games
END:VEVENT
BEGIN:VEVENT
DTSTART;VALUE=DATE:20201027
DTEND;VALUE=DATE:20201029
DTSTAMP:20260422T224358
CREATED:20201026T150704Z
LAST-MODIFIED:20201026T150931Z
UID:10000143-1603756800-1603929599@dortmund-kreativ.de
SUMMARY:RUHRSUMMIT GOES DIGITAL
DESCRIPTION:Am 27. und 28. Oktober 2020 lädt der 5. ruhrSUMMIT agile Start-ups mit innovativen Lösungsansätzen\, Unternehmen und Investor*innen zu Konferenz und Networking im virtuellen Raum. Neben Vorträgen\, Pitches und Table Discussions können die Teilnehmenden auf der digitalen Expo neueste Technologien und Trends der digitalen Welt entdecken. \nDer Fokus liegt dabei auf digitalen Geschäftsmodellen und der Verwendung innovativer Schlüsseltechnologien. Themen der Vorträge sind u.a. „Start-ups als externe Innovationstreiber“\, „Die Hebel der Next Generation of Business“\, „Die Corona-Krise und das deutsche Start-up-Ökosystem“ oder „Kompetenzen für das 21. Jahrhundert – Disrupting Minds“. \nNeuer Veranstalter des diesjährigen Digital-Events ist der ruhrHUB\, der als digitaler Knotenpunkt für Start-ups\, Unternehmen\, Digital Natives & Immigrants in der Region Ruhr agiert. Schirmherr ist erneut Prof. Dr. Andreas Pinkwart\, Minister für Wirtschaft\, Innovation\, Digitalisierung und Energie des Landes NRW. \nAlle Infos zum ruhrSUMMIT 2020 findest du hier!
URL:https://dortmund-kreativ.de/event/ruhrsummit-goes-digital/
LOCATION:Digital
CATEGORIES:Gründung,Kreativwirtschaft
END:VEVENT
BEGIN:VEVENT
DTSTART;TZID=Europe/Berlin:20201014T190000
DTEND;TZID=Europe/Berlin:20201014T210000
DTSTAMP:20260422T224358
CREATED:20201006T104543Z
LAST-MODIFIED:20201006T104803Z
UID:10000004-1602702000-1602709200@dortmund-kreativ.de
SUMMARY:Online-Workshop: Corona-Hilfen für freischaffende Künstler*innen
DESCRIPTION:  \nEine Veranstaltung vom NRW Landesbüro Freie Darstellende Künste und dem Landesmusikrat NRW in Verbindung mit dem Kulturrat NRW \nDer Online-Workshop widmet sich den Corona-Hilfen von Bundes- und Landesregierung für freischaffende Künstlerinnen und Künstler aller Kultursparten. Das Programm wird im Oktober 2020 noch einmal aktualisiert und die Zugänge werden deutlich vereinfacht. Es können also deutlich mehr Kulturschaffende von den Hilfen profitieren als in den zurück liegenden Monaten. \nSteuerberater Marcel Stenpaß informiert über die Programme\, deren Rahmenbedingungen sich nun zum Herbst noch einmal ändern\, aber auch über allgemeine und steuerliche Maßnahmen\, die hilfreich zur Bewältigung der Krise sein können. Wer ist bei der „Überbrückungshilfe“ antragsberechtigt? Aus welchen Fördermitteln darf man Lebenshaltungskosten bestreiten? Und welches Programm schließt die Teilnahme an einem anderen aus? Marcel Stenpaß geht auch auf individuelle Fragen ein. \n\nBeratung: Marcel Stenpaß (Steuerberater)\nModeration: Ulrike Seybold\nTermin: Mittwoch\, 14. Oktober\, 19 Uhr\n\nTeilnahme kostenfrei! \nDiese Veranstaltung findet online als Zoom-Konferenz statt. Die Teilnehmer*innen erhalten vor Beginn per Mail einen Link zur Teilnahme. \nAnmeldung zum Online-Workshop \nWeitere Informationen \n 
URL:https://dortmund-kreativ.de/event/online-workshop-corona-hilfen-fuer-freischaffende-kuenstlerinnen/
LOCATION:Digital
CATEGORIES:Bildende Kunst,Darstellende Kunst,Förderprogramme,Kreativwirtschaft,Kunstmarkt,Musikwirtschaft
END:VEVENT
BEGIN:VEVENT
DTSTART;TZID=Europe/Berlin:20201008T163000
DTEND;TZID=Europe/Berlin:20201008T193000
DTSTAMP:20260422T224358
CREATED:20200924T140328Z
LAST-MODIFIED:20200924T140509Z
UID:10000136-1602174600-1602185400@dortmund-kreativ.de
SUMMARY:Kulturkonferenz: #LookingAhead
DESCRIPTION:  \nUnter dem Titel „Looking Ahead“ veranstaltet der Creative Europe Desk KULTUR am 8. Oktober 2020 eine Online-Konferenz zu neuen Möglichkeiten und Visionen für die EU-Kulturförderung nach COVID-19. \nExpert*innen aus ganz Europa kommen im digitalen Raum zusammen\, um über Unterstützungsmaßnahmen für die Kultur während und nach der Corona-Krise sowie über den neuen Programmzyklus der Förderprogramme Creative Europe\, Horizon Europe und des Europäischen Strukturfonds zu diskutieren. Eröffnet wird die Konferenz von Prof. Monika Grütters\, Staatsministerin und Beauftragte der Bundesregierung für Kultur und Medien\, und Mariya Gabriel\, EU-Kommissarin für Innovation\, Forschung\, Kultur\, Bildung und Jugend. \nFür die Teilnahme ist keine Registrierung notwendig. Den Link zur Online-Konferenz findet man am Veranstaltungstag auf der Website.
URL:https://dortmund-kreativ.de/event/kulturkonferenz-lookingahead/
LOCATION:Digital
CATEGORIES:Ausstellung,Bildende Kunst,Darstellende Kunst,Filmwirtschaft,Förderprogramme,Kreativwirtschaft,Kunstmarkt,Musikwirtschaft
END:VEVENT
BEGIN:VEVENT
DTSTART;TZID=Europe/Berlin:20201007T130000
DTEND;TZID=Europe/Berlin:20201007T210000
DTSTAMP:20260422T224358
CREATED:20200921T101739Z
LAST-MODIFIED:20200921T101739Z
UID:10000037-1602075600-1602104400@dortmund-kreativ.de
SUMMARY:HELPATHON Vol. 3 // Kaufhaus der Zukunft
DESCRIPTION:  \nAm 07.10.2020 veranstaltet die Wirtschaftsförderung Dortmund die 3. Ausgabe des digitalen Formates HELPATHON. Gemeinsam sollen Ideen für Projekte und Geschäftsmodelle zum Thema „Kaufhaus der Zukunft“ entwickelt werden. Hierzu sind alle herzlich eingeladen! \nHat das Konzept Kaufhaus wie wir es kennen ausgedient? Die Corona-Pandemie hat eine Entwicklung im Handel\, die sich schon seit einigen Jahren abgezeichnet hat\, noch einmal deutlich unterstrichen und beschleunigt. Durch die Schließung der Innenstädte im Lockdown wurde abschließend klar\, dass das Internet für viele Bürger der bessere Vollsortimenter ist und die Herausforderung für den lokalen Handel darin liegt sich hiervon abzugrenzen. Entwicklungen wie „Same Day Delivery“ und kostenlose Retouren haben die Vorteile der großen lokalen Kaufhäuser zunichte gemacht. Waren sie früher Anziehungspunkte für die Belebung der Innenstädte droht nun der Leerstand mit negativen Effekten für das Umfeld. Wenn die Warenhauskette verschwindet\, bleibt die Immobilie. Der einstige Garant für Publikumsfrequenz wird über Nacht zum schwarzen Loch. Für diese Herausforderung\, vor der Kommunen\, Immobilieneigentümer\, Händler und auch Kunden stehen wollen wir gemeinsam Ideen entwickeln. \nGemeinsam mit allen Teilnehmer*innen und Partnern will die Wirtschaftsförderung Antworten auf die Fragen finden\, wie das Kaufhaus der Zukunft aussehen kann\, welche Funktionen es übernehmen soll oder wie Neues an Stelle der alten Nutzungen entstehen kann. Im HELPATHON werden die Teilnehmer*innen gemeinsam Ideen/Prototypen erarbeiten\, aus denen sich dann Konzepte und neue Geschäftsmodelle entwickeln lassen. \nMit dem Fokus “Kaufhaus der Zukunft” startet am 07. Oktober der HELPATHON 2020 // Vol. 3. von 12:00 Uhr bis ca. 21:00 Uhr. Eine detaillierte Agenda steht auf der Anmeldeseite zur Verfügung \nGemeinsam finden wir Antworten auf diese Fragen und fangen an\, anders zu denken und zu handeln. Für heute. Für morgen. Für uns alle. Für eine erlebbare Innenstadt. \nMachen Sie mit! Alle Infos und Anmeldemöglichkeiten \n 
URL:https://dortmund-kreativ.de/event/helpathon-vol-3-kaufhaus-der-zukunft/
LOCATION:Digital
CATEGORIES:Kreativquartiere,Kreativwirtschaft
END:VEVENT
BEGIN:VEVENT
DTSTART;TZID=Europe/Berlin:20200930T180000
DTEND;TZID=Europe/Berlin:20200930T184500
DTSTAMP:20260422T224358
CREATED:20200923T115946Z
LAST-MODIFIED:20200923T115946Z
UID:10000130-1601488800-1601491500@dortmund-kreativ.de
SUMMARY:Die gute Idee: Kreative Städte (Sonderedition zum Creative Bureaucracy Festival)
DESCRIPTION:Als Partner des Creative Bureaucracy Festivals setzt das Kompetenzzentrum Kultur- und Kreativwirtschaft des Bundes seine Gesprächsreihe “Die gute Idee“ fort: Die 15. Folge widmet sich dem Thema “kreative Bürokratie in der Stadtentwicklung”: Am 30. September\, 18 Uhr\, werden drei Gäste gemeinsam mit Journalist und Moderator Konrad Spremberg über kreative Lösungen für Stadtgestaltung sprechen und darüber berichten\, wo und wie kreative Ideen in Verwaltungsprozessen bereits in diesem Bereich erfolgreich etabliert werden können. \nDas Gespräch wird live auf den Facebook\, Twitter und YouTube Kanälen des Kompetenzzentrums und im Online Programm des Creative Bureaucracy Festivals übertragen. Eine Anmeldung für diesen Programmpunkt ist vorab nicht erforderlich. \nGäste:\nLaura Bruns\nCo-Founder\, stadtstattstrand \nTristan Lannuzel\nPartner\, urbanista \nMartin Platzer\nDigitale Transformation\, Mönchengladbach
URL:https://dortmund-kreativ.de/event/die-gute-idee-kreative-staedte-sonderedition-zum-creative-bureaucracy-festival/
LOCATION:Digital
CATEGORIES:Kreativwirtschaft
END:VEVENT
BEGIN:VEVENT
DTSTART;TZID=Europe/Berlin:20200923T180000
DTEND;TZID=Europe/Berlin:20200923T193000
DTSTAMP:20260422T224358
CREATED:20200901T070354Z
LAST-MODIFIED:20200909T094132Z
UID:10000059-1600884000-1600889400@dortmund-kreativ.de
SUMMARY:Digitale Learning Journey V: Prototyping mit der Kultur- und Kreativwirtschaft
DESCRIPTION:Prototypen sind ein wichtiges Werkzeug bei der Entwicklung von neuen Produkten und Dienstleistungen und essenzieller Bestandteil von agilen Methoden wie Design Thinking und Scrum. Sie dienen innerhalb des Entwickler*innenteams der Konkretisierung und des Ausprobierens von Ideen. Wertvoll sind sie aber auch\, um frühzeitig Feedback von potenziellen Kund*innen einzuholen und diese im Sinne eines User Centered Design mit in die Entwicklung mit einzubeziehen. Neue Prototyping Technologien bieten spannende Möglichkeiten\, um Ideen schnell Erleb- und Erprobbar zu machen – sowohl virtuell als auch physisch. \nWir besuchen – digital – drei ausgewählte kreativwirtschaftliche Unternehmen aus dem Bereich und wagen einen Blick hinter die Kulissen: Expert*innen werden ihre Arbeit vorstellen und einen Einblick in ihr Arbeitsumfeld (Büro\, Studio etc.) gewähren. Darüber hinaus werden die Expert*innen auf Fragen eingehen und ein tieferes Verständnis für aktuelle Anwendungsmöglichkeiten vermitteln. \nAlle Infos und Anmeldung HIER
URL:https://dortmund-kreativ.de/event/digitale-learning-journey-v-prototyping-mit-der-kultur-und-kreativwirtschaft/
LOCATION:Digital
CATEGORIES:Designwirtschaft,Kreativwirtschaft,Software/Games,Werbemarkt
END:VEVENT
BEGIN:VEVENT
DTSTART;TZID=Europe/Berlin:20200916T140000
DTEND;TZID=Europe/Berlin:20200916T170000
DTSTAMP:20260422T224358
CREATED:20200908T125723Z
LAST-MODIFIED:20200908T125723Z
UID:10000055-1600264800-1600275600@dortmund-kreativ.de
SUMMARY:Visions of a Creative Europe - Online Conference on the Cultural Future of Europe
DESCRIPTION:Kreativ\, innovativ\, vielfältig: Welche Rolle spielen Film\, Kultur und Medien in unserer Gesellschaft? Und wie sieht die kulturelle Zukunft Europas aus? Diese Fragen stehen im Mittelpunkt der Online-Konferenz Visions of a Creative Europe am 16. September 2020\, präsentiert von den Creative Europe MEDIA Desks Deutschland. \n\n\nEröffnet wird die Konferenz von Prof. Monika Grütters\, Staatsministerin und Beauftragte der Bundesregierung für Kultur und Medien\, anlässlich der deutschen EU-Ratspräsidentschaft. Unter anderem spricht die mehrfach preisgekrönte isländische Künstlerin Hildur Guðnadóttir darüber\, wie Film und Musik als „Herz und Seele Europas“ zur Bewältigung der großen Herausforderungen beitragen können. Christian Mio Loclair\, Creative Director bei Waltz Binaire\, geht der Frage nach\, welchen Einfluss Künstliche Intelligenz auf Gesellschaft\, Kultur und Kunst hat. Susa Pop (Public Art Lab)\, Carolin Huder (Kammerspiele Kleinmachnow) und Gorana Barišić Bačelić (Fortress of Šibenik) stellen ihr Projekt „Connecting Cinemas in Rural Areas“ vor. \nAlle Infos und das Programm findet Ihr hier
URL:https://dortmund-kreativ.de/event/visions-of-a-creative-europe-online-conference-on-the-cultural-future-of-europe/
LOCATION:Digital
CATEGORIES:Filmwirtschaft,Kreativwirtschaft,Rundfunkwirtschaft
END:VEVENT
BEGIN:VEVENT
DTSTART;TZID=Europe/Berlin:20200915T190000
DTEND;TZID=Europe/Berlin:20200915T203000
DTSTAMP:20260422T224358
CREATED:20200907T083004Z
LAST-MODIFIED:20200915T132456Z
UID:10000054-1600196400-1600201800@dortmund-kreativ.de
SUMMARY:Musik-Stammtisch DIGITAL 2
DESCRIPTION:Kreative Alternativen-Neue Musikkonzepte in der Corona-Pandemie \nHomerecording\, Streaming\, Online-Sender\, Videoproduktionen oder auch Hörspiele\nBesondere Zeiten erfordern besondere Ideen. Und die Corona-Zeit erfordert neben Geduld und Disziplin vor allem auch Kreativität. Für Musiker*innen\, Produzenten*innen\, Booker*innen und alle weiteren der Live-Branche angeschlossenen Strukturen sind es harte\, teils sehr harte Zeiten. Doch einige nutzen diese Umstände\, um neue Wege zu gehen. So sind Videoproduktionen von Songs schnell in den Fokus vieler Bands gekommen. Das Streamen wurde von einer Randerscheinung zu einem Mainstreamformat um live zu spielen und an anderer Stelle werden Online-TV-Formate entwickelt und dienen als Live-Plattform. Zu den kreativen Neuerscheinungen gehört neben dem Homerecording auch die Transformation von Musik in die Sparte Hörbücher oder es entstanden neue Podcast-Formate von Musiker*innen. Dies alles wollen wir gemeinsam mit Musiker*innen und Experten*innen vorstellen\, besprechen und nachfragen\, wie praktikabel diese Formate sind\, wie nachhaltig sie sein sollen und wo die Reise vielleicht noch hingeht. UND: Wir diskutieren mit Erfahrungsberichten\, wie man für diese Formate auch Förderungen bekommt. \nIm Podium dabei sind: \nStreaming-Konzerte: Richard Opoku Agyemang (Rekorder)\nVideo-Produktionen: Arne Schlechter/Dietmar Wäsche (MUK)\nOnline TV-Sender: Jens Albert (aka „Der Wolf“)\nHomerecorings: Davsen (Papier & Bleistift)\nHörspiele: Luce Bertermann (Trio Randale) \nModeration:\nDidi Stahlschmidt (Kulturbüro) \nTechnische Umsetzung:\nAls Zoom-Konferenz über den Kanal des domicil\nAktive Einbindung des Publikums:\nDurch direkte Kommentarfunktion über den Youtube-Kanal des domicils \nOrt:\nModeration und Technik im domicil\, digital bei den jeweiligen Gesprächspartnern*innen\,
URL:https://dortmund-kreativ.de/event/musik-stammtisch-digital-2/
LOCATION:Digital
CATEGORIES:Musikwirtschaft
END:VEVENT
BEGIN:VEVENT
DTSTART;TZID=Europe/Berlin:20200910T180000
DTEND;TZID=Europe/Berlin:20200910T193000
DTSTAMP:20260422T224358
CREATED:20200903T132307Z
LAST-MODIFIED:20200903T140713Z
UID:10000061-1599760800-1599766200@dortmund-kreativ.de
SUMMARY:Digitale Learning Journey IV: Robotik und Kreativwirtschaft
DESCRIPTION:Drei ausgewählte kreativwirtschaftliche Unternehmen aus dem Bereich Robotik werden besucht: Expert*innen werden ihre Arbeit vorstellen und einen Einblick in ihr Arbeitsumfeld (Büro\, Studio etc.) gewähren. Darüber hinaus werden die Expert*innen auf Fragen eingehen und ein tieferes Verständnis für aktuelle Anwendungsmöglichkeiten vermitteln.
URL:https://dortmund-kreativ.de/event/digitale-learning-journey-iv-robotik-und-kreativwirtschaft/
LOCATION:Digital
CATEGORIES:Kreativwirtschaft
END:VEVENT
END:VCALENDAR