BEGIN:VCALENDAR
VERSION:2.0
PRODID:-//Dortmund Kreativ - ECPv6.15.18//NONSGML v1.0//EN
CALSCALE:GREGORIAN
METHOD:PUBLISH
X-WR-CALNAME:Dortmund Kreativ
X-ORIGINAL-URL:https://dortmund-kreativ.de
X-WR-CALDESC:Veranstaltungen für Dortmund Kreativ
REFRESH-INTERVAL;VALUE=DURATION:PT1H
X-Robots-Tag:noindex
X-PUBLISHED-TTL:PT1H
BEGIN:VTIMEZONE
TZID:Europe/Berlin
BEGIN:DAYLIGHT
TZOFFSETFROM:+0100
TZOFFSETTO:+0200
TZNAME:CEST
DTSTART:20200329T010000
END:DAYLIGHT
BEGIN:STANDARD
TZOFFSETFROM:+0200
TZOFFSETTO:+0100
TZNAME:CET
DTSTART:20201025T010000
END:STANDARD
BEGIN:DAYLIGHT
TZOFFSETFROM:+0100
TZOFFSETTO:+0200
TZNAME:CEST
DTSTART:20210328T010000
END:DAYLIGHT
BEGIN:STANDARD
TZOFFSETFROM:+0200
TZOFFSETTO:+0100
TZNAME:CET
DTSTART:20211031T010000
END:STANDARD
BEGIN:DAYLIGHT
TZOFFSETFROM:+0100
TZOFFSETTO:+0200
TZNAME:CEST
DTSTART:20220327T010000
END:DAYLIGHT
BEGIN:STANDARD
TZOFFSETFROM:+0200
TZOFFSETTO:+0100
TZNAME:CET
DTSTART:20221030T010000
END:STANDARD
BEGIN:DAYLIGHT
TZOFFSETFROM:+0100
TZOFFSETTO:+0200
TZNAME:CEST
DTSTART:20230326T010000
END:DAYLIGHT
BEGIN:STANDARD
TZOFFSETFROM:+0200
TZOFFSETTO:+0100
TZNAME:CET
DTSTART:20231029T010000
END:STANDARD
BEGIN:DAYLIGHT
TZOFFSETFROM:+0100
TZOFFSETTO:+0200
TZNAME:CEST
DTSTART:20240331T010000
END:DAYLIGHT
BEGIN:STANDARD
TZOFFSETFROM:+0200
TZOFFSETTO:+0100
TZNAME:CET
DTSTART:20241027T010000
END:STANDARD
END:VTIMEZONE
BEGIN:VEVENT
DTSTART;TZID=Europe/Berlin:20230304T090000
DTEND;TZID=Europe/Berlin:20230304T153000
DTSTAMP:20260421T135225
CREATED:20230207T122953Z
LAST-MODIFIED:20230207T122953Z
UID:10000435-1677920400-1677943800@dortmund-kreativ.de
SUMMARY:LSO Dicovery Day
DESCRIPTION:Das London Symphony Orchestra (LSO)\, einer der führenden Klangkörper der Welt\, ist das erste Residenzorchester im Konzerthaus Dortmund. Mit im Gepäck hat es neben einmaligen Konzerterlebnissen umfangreiche Erfahrungen in der Community-Music-Arbeit. In enger Zusammenarbeit mit dem LSO geht das Konzerthaus auf eine klangvolle Reise\, die auch aus dem Konzerthaus hinausführt. \nDenn das LSO und das Community-Music-Team am Konzerthaus Dortmund laden am Samstag\, 4. März 2023\, zum zweiten Mal zum LSO Dicovery Day im Konzerthaus ein. \nAnmeldung unter communitymusic@konzerthaus-dortmund.de. \nWeitere Infos \n 
URL:https://dortmund-kreativ.de/event/lso-dicovery-day/
LOCATION:Konzerthaus Dortmund
CATEGORIES:Familien,Konzert,Kreativquartiere,Urbanität
END:VEVENT
BEGIN:VEVENT
DTSTART;TZID=Europe/Berlin:20230126T180000
DTEND;TZID=Europe/Berlin:20230126T210000
DTSTAMP:20260421T135225
CREATED:20221216T101818Z
LAST-MODIFIED:20221216T102440Z
UID:10000402-1674756000-1674766800@dortmund-kreativ.de
SUMMARY:Brückviertel Community Jam
DESCRIPTION:Den Alltagsstress aus den Gliedern jammen – das ist in den wöchentlichen Musik-Sessions des Konzerthaus Dortmund möglich! \nJede und jeder\, ungeachtet von (musikalischen) Fähigkeiten und Erfahrungen\, ist eingeladen im lockeren Ambiente gemeinsam Musik zu machen\, Songs zu schreiben und musikalische Kenntnisse zu entwickeln. Geleitet werden die Sessions von Community Musicians. Keine Vorkenntnisse oder Anmeldung erforderlich. \nWeitere Infos findet ihr hier! \nFoto: Holger Jacoby
URL:https://dortmund-kreativ.de/event/brueckviertel-community-jam-2/
LOCATION:Konzerthaus Dortmund
CATEGORIES:Familien,Kreativquartiere,Netzwerk,Urbanität
END:VEVENT
BEGIN:VEVENT
DTSTART;TZID=Europe/Berlin:20210605T110000
DTEND;TZID=Europe/Berlin:20210605T130000
DTSTAMP:20260421T135225
CREATED:20210129T082908Z
LAST-MODIFIED:20210129T090517Z
UID:10000030-1622890800-1622898000@dortmund-kreativ.de
SUMMARY:BRÜCKVIERTEL COMMUNITY JAM
DESCRIPTION:  \nDen Alltagsstress aus den Gliedern jammen – das ist in wöchentlichen Brückviertel Community Jam Musik-Sessions am Konzerthaus Dortmund möglich! Jeder\, ungeachtet seiner (musikalischen) Fähigkeiten und Erfahrungen\, ist eingeladen im lockeren Ambiente gemeinsam Musik zu machen\, Songs zu schreiben und musikalische Kenntnisse zu entwickeln. Geleitet werden die Sessions von Community Musicians. \nTermine: \nSa 13.03.2021\nSa 20.03.2021\nSa 27.03.2021\nSa 10.04.2021\nSa 01.05.2021\nSa 15.05.2021\nSa 22.05.2021\nSa 29.05.2021\nSa 05.06.2021\nSa 12.06.2021\nSa 26.06.2021 \nJeweils von 11:00 – 13:00 Uhr \nEine Anmeldung ist erforderlich. Den Link findet ihr hier! \nWeitere Infos zum Community Music Programm am Konzerthaus Dortmund
URL:https://dortmund-kreativ.de/event/brueckviertel-community-jam/2021-06-05/
LOCATION:Konzerthaus Dortmund
CATEGORIES:Kreativquartiere,Musikwirtschaft
END:VEVENT
BEGIN:VEVENT
DTSTART;TZID=Europe/Berlin:20210410T110000
DTEND;TZID=Europe/Berlin:20210410T130000
DTSTAMP:20260421T135225
CREATED:20210129T082908Z
LAST-MODIFIED:20210129T090517Z
UID:10000029-1618052400-1618059600@dortmund-kreativ.de
SUMMARY:BRÜCKVIERTEL COMMUNITY JAM
DESCRIPTION:  \nDen Alltagsstress aus den Gliedern jammen – das ist in wöchentlichen Brückviertel Community Jam Musik-Sessions am Konzerthaus Dortmund möglich! Jeder\, ungeachtet seiner (musikalischen) Fähigkeiten und Erfahrungen\, ist eingeladen im lockeren Ambiente gemeinsam Musik zu machen\, Songs zu schreiben und musikalische Kenntnisse zu entwickeln. Geleitet werden die Sessions von Community Musicians. \nTermine: \nSa 13.03.2021\nSa 20.03.2021\nSa 27.03.2021\nSa 10.04.2021\nSa 01.05.2021\nSa 15.05.2021\nSa 22.05.2021\nSa 29.05.2021\nSa 05.06.2021\nSa 12.06.2021\nSa 26.06.2021 \nJeweils von 11:00 – 13:00 Uhr \nEine Anmeldung ist erforderlich. Den Link findet ihr hier! \nWeitere Infos zum Community Music Programm am Konzerthaus Dortmund
URL:https://dortmund-kreativ.de/event/brueckviertel-community-jam/2021-04-10/
LOCATION:Konzerthaus Dortmund
CATEGORIES:Kreativquartiere,Musikwirtschaft
END:VEVENT
BEGIN:VEVENT
DTSTART;TZID=Europe/Berlin:20210313T110000
DTEND;TZID=Europe/Berlin:20210313T130000
DTSTAMP:20260421T135225
CREATED:20210129T082908Z
LAST-MODIFIED:20210129T090517Z
UID:10000028-1615633200-1615640400@dortmund-kreativ.de
SUMMARY:BRÜCKVIERTEL COMMUNITY JAM
DESCRIPTION:  \nDen Alltagsstress aus den Gliedern jammen – das ist in wöchentlichen Brückviertel Community Jam Musik-Sessions am Konzerthaus Dortmund möglich! Jeder\, ungeachtet seiner (musikalischen) Fähigkeiten und Erfahrungen\, ist eingeladen im lockeren Ambiente gemeinsam Musik zu machen\, Songs zu schreiben und musikalische Kenntnisse zu entwickeln. Geleitet werden die Sessions von Community Musicians. \nTermine: \nSa 13.03.2021\nSa 20.03.2021\nSa 27.03.2021\nSa 10.04.2021\nSa 01.05.2021\nSa 15.05.2021\nSa 22.05.2021\nSa 29.05.2021\nSa 05.06.2021\nSa 12.06.2021\nSa 26.06.2021 \nJeweils von 11:00 – 13:00 Uhr \nEine Anmeldung ist erforderlich. Den Link findet ihr hier! \nWeitere Infos zum Community Music Programm am Konzerthaus Dortmund
URL:https://dortmund-kreativ.de/event/brueckviertel-community-jam/2021-03-13/
LOCATION:Konzerthaus Dortmund
CATEGORIES:Kreativquartiere,Musikwirtschaft
END:VEVENT
END:VCALENDAR