BEGIN:VCALENDAR
VERSION:2.0
PRODID:-//Dortmund Kreativ - ECPv6.15.18//NONSGML v1.0//EN
CALSCALE:GREGORIAN
METHOD:PUBLISH
X-WR-CALNAME:Dortmund Kreativ
X-ORIGINAL-URL:https://dortmund-kreativ.de
X-WR-CALDESC:Veranstaltungen für Dortmund Kreativ
REFRESH-INTERVAL;VALUE=DURATION:PT1H
X-Robots-Tag:noindex
X-PUBLISHED-TTL:PT1H
BEGIN:VTIMEZONE
TZID:Europe/Berlin
BEGIN:DAYLIGHT
TZOFFSETFROM:+0100
TZOFFSETTO:+0200
TZNAME:CEST
DTSTART:20190331T010000
END:DAYLIGHT
BEGIN:STANDARD
TZOFFSETFROM:+0200
TZOFFSETTO:+0100
TZNAME:CET
DTSTART:20191027T010000
END:STANDARD
BEGIN:DAYLIGHT
TZOFFSETFROM:+0100
TZOFFSETTO:+0200
TZNAME:CEST
DTSTART:20200329T010000
END:DAYLIGHT
BEGIN:STANDARD
TZOFFSETFROM:+0200
TZOFFSETTO:+0100
TZNAME:CET
DTSTART:20201025T010000
END:STANDARD
BEGIN:DAYLIGHT
TZOFFSETFROM:+0100
TZOFFSETTO:+0200
TZNAME:CEST
DTSTART:20210328T010000
END:DAYLIGHT
BEGIN:STANDARD
TZOFFSETFROM:+0200
TZOFFSETTO:+0100
TZNAME:CET
DTSTART:20211031T010000
END:STANDARD
BEGIN:DAYLIGHT
TZOFFSETFROM:+0100
TZOFFSETTO:+0200
TZNAME:CEST
DTSTART:20220327T010000
END:DAYLIGHT
BEGIN:STANDARD
TZOFFSETFROM:+0200
TZOFFSETTO:+0100
TZNAME:CET
DTSTART:20221030T010000
END:STANDARD
BEGIN:DAYLIGHT
TZOFFSETFROM:+0100
TZOFFSETTO:+0200
TZNAME:CEST
DTSTART:20230326T010000
END:DAYLIGHT
BEGIN:STANDARD
TZOFFSETFROM:+0200
TZOFFSETTO:+0100
TZNAME:CET
DTSTART:20231029T010000
END:STANDARD
BEGIN:DAYLIGHT
TZOFFSETFROM:+0100
TZOFFSETTO:+0200
TZNAME:CEST
DTSTART:20240331T010000
END:DAYLIGHT
BEGIN:STANDARD
TZOFFSETFROM:+0200
TZOFFSETTO:+0100
TZNAME:CET
DTSTART:20241027T010000
END:STANDARD
BEGIN:DAYLIGHT
TZOFFSETFROM:+0100
TZOFFSETTO:+0200
TZNAME:CEST
DTSTART:20250330T010000
END:DAYLIGHT
BEGIN:STANDARD
TZOFFSETFROM:+0200
TZOFFSETTO:+0100
TZNAME:CET
DTSTART:20251026T010000
END:STANDARD
BEGIN:DAYLIGHT
TZOFFSETFROM:+0100
TZOFFSETTO:+0200
TZNAME:CEST
DTSTART:20260329T010000
END:DAYLIGHT
BEGIN:STANDARD
TZOFFSETFROM:+0200
TZOFFSETTO:+0100
TZNAME:CET
DTSTART:20261025T010000
END:STANDARD
BEGIN:DAYLIGHT
TZOFFSETFROM:+0100
TZOFFSETTO:+0200
TZNAME:CEST
DTSTART:20270328T010000
END:DAYLIGHT
BEGIN:STANDARD
TZOFFSETFROM:+0200
TZOFFSETTO:+0100
TZNAME:CET
DTSTART:20271031T010000
END:STANDARD
END:VTIMEZONE
BEGIN:VEVENT
DTSTART;TZID=Europe/Berlin:20260115T180000
DTEND;TZID=Europe/Berlin:20260115T200000
DTSTAMP:20260421T123448
CREATED:20251127T105330Z
LAST-MODIFIED:20251127T105347Z
UID:10000991-1768500000-1768507200@dortmund-kreativ.de
SUMMARY:HANS B + MKK: Eröffnung "Geteilte Welten – Dinge der Verbundenheit"
DESCRIPTION:Eine Ausstellung über transnationale Fürsorge // 16. Januar bis 22. Februar 2026 \nDie Ausstellung „Geteilte Welten: Dinge der Verbundenheit“ thematisiert transnationale Fürsorge in migrantischen Kontexten. Fürsorge\, die sich im Schicken oder Mitbringen von Dingen ausdrückt. Für viele Familien gehört dies zum Alltag: Geschenke bei Heimatbesuchen\, Pakete mit Kleidung\, Lebensmitteln oder kleinen Besonderheiten wie Parfum und Süßigkeiten. \nDiese Praktiken des Sorgens und Teilens verhandeln Fragen von Identität\, Zugehörigkeit und Verbundenheit. Sie zeigen\, welche Bedeutungen Menschen Dingen geben und wie Migration diese Bedeutungen verändert. Geteilte Welten präsentiert vier Interviews mit Migrant*innen sowie ihre Koffer\, Pakete und die darin enthaltenen Dinge als materielle Spuren von Nähe\, Erinnerung und Fürsorge. \n\nVeranstaltungen (im MKK): \n15.01.2026\, 18 Uhr\nAusstellungseröffnung \n17.01.2026\, 14-17 Uhr\nStorytelling-Workshop „Hast du schon gegessen?“ mit Kim Hà Tran & Michelle Phạm\nAnmeldung unter: jrehrmann@stadtdo.de \n12.02.2026\, 18-20 Uhr\nKurzfilmscreening und Gespräch mit Lizza May David \n07.02.2026\, 14-18 Uhr\nLinol-Postkartenworkshop mit Lisa Fischer und Luis Felipe Düllberg\nAnmeldung unter: jrehrmann@stadtdo.de \nFührungen (HANS B)\n25.01.2026 von 14-15 Uhr\n04.02.2026 von 18-19 Uhr\n18.02.2026 von 18-19 Uhr\nAnmeldung unter: jrehrmann@stadtdo.de \nDie Workshops und das Filmscreening finden im Museum für Kunst und Kulturgeschichte (Hansastraße 3\, 44137 Dortmund) statt.\nDie Ausstellung befindet sich in HANS B\, Hansastraße 6-12\, 44137 Dortmund. \nÖffnungszeiten:\nMittwoch von 11-20 Uhr\nDonnerstag von 11-20 Uhr\nFreitag von 11-18 Uhr\nSamstag von 11-18 Uhr\nSonntag von 11-18 Uhr \nEintritt frei! \nDie Ausstellung wird gefördert von Interkultur Ruhr und vom Ministerium für Kultur und Wissenschaft des Landes Nordrhein-Westfalen. \nProjektleitung: Jessica Rehrmann\nGestaltung: Johanna Wortmann \nWeitere Informationen \n\nEin Projekt im Rahmen von KOMMEN BLEIBEN GEHEN – Kreative Projekte an temporären Orten. \n\n 
URL:https://dortmund-kreativ.de/event/hans-b-mkk-eroeffnung-geteilte-welten-dinge-der-verbundenheit/
LOCATION:Museum für Kunst und Kulturgeschichte\, Hansastraße 3\, Dortmund\, 44137
CATEGORIES:Ausstellung,DORTMUND KREATIV,HANS A | HANS B | HANS C,KOMMEN BLEIBEN GEHEN,Kreativwirtschaft,Netzwerk,Stadtentwicklung,Urbanität
END:VEVENT
BEGIN:VEVENT
DTSTART;TZID=Europe/Berlin:20240728T140000
DTEND;TZID=Europe/Berlin:20240728T170000
DTSTAMP:20260421T123448
CREATED:20240716T114317Z
LAST-MODIFIED:20240716T114504Z
UID:10000739-1722175200-1722186000@dortmund-kreativ.de
SUMMARY:Workshop "Monuments of the Future?"
DESCRIPTION:Denkmäler stehen immer wieder auf dem Prüfstand: So wurden im Zuge von Black-Lives-Matter-Protesten in den USA zahlreiche Konföderierten-Denkmäler – teilweise gewaltsam – aus dem öffentlichen Raum entfernt. Und auch in Deutschland setzen sich Aktivist*innen für die Umbenennung von Straßen ein\, die derzeit Persönlichkeiten gewidmet sind\, die an kolonialer Unterdrückung beteiligt waren. Neu zu errichtende Denkmäler dagegen sollen Menschen und Communities gedenken\, deren gesellschaftliche Verdienste bisher wenig Anerkennung erfahren haben. \nGedenkkultur berührt sowohl politische Repräsentation als auch das tägliche Leben. Woran erinnert wird und was unsichtbar bleibt\, ist eine Angelegenheit von öffentlichem Interesse. \nIm Workshop „Monuments of the Future?“\, der auf dem gleichnamigen Projekt des Goethe-Instituts Washington D.C. basiert\, werden Prozesse der Errichtung\, des Abbaus und der Aktualisierung von Denkmälern untersucht und diskutiert. Durch die Betrachtung bestehender Denkmäler setzen wir uns mit Symbolen kollektiver Erinnerung auseinander und versuchen\, sie zu ergänzen\, zu verändern und Denkmäler der Zukunft zu entwerfen. \nAngeleitet wird der Workshop durch die Designerinnen und Kuratorinnen Marlene Oeken und Martha Schwindling. Sie haben das Vermittlungs-Toolkit „Monumental Bag“ mit dem Goethe-Institut Washington D.C. entwickelt\, das im Workshop zum Einsatz kommt und das Menschen aus allen Teilen der Zivilgesellschaft dazu einlädt\, in die Diskussion über Gedenkkultur einzusteigen. \nAufgrund der begrenzten Teilnehmerplätze wird um eine schriftliche Anmeldung bis zum 22.07.2024 an kior@stadtdo.de gebeten.. \nDer Workshop findet im Museum für Kunst und Kulturgeschichte\, Hansastr. 3\, 44137 Dortmund statt. \nDie Veranstaltung ist kostenfrei. \nWeitere Infos \n 
URL:https://dortmund-kreativ.de/event/workshop-monuments-of-the-future/
LOCATION:Museum für Kunst und Kulturgeschichte\, Hansastraße 3\, Dortmund\, 44137
CATEGORIES:Architektur,Bildende Kunst,Forschung,Urbane Kunst,Urbanität
END:VEVENT
BEGIN:VEVENT
DTSTART;TZID=Europe/Berlin:20230315T193000
DTEND;TZID=Europe/Berlin:20230315T213000
DTSTAMP:20260421T123448
CREATED:20230308T163148Z
LAST-MODIFIED:20230308T163356Z
UID:10000473-1678908600-1678915800@dortmund-kreativ.de
SUMMARY:Meet the… Artist – ein Künstlergespräch mit Stefan Sous
DESCRIPTION:Das Museum für Kunst und Kulturgeschichte lädt alle herzlich ein ein: \nMeet the… Artist – ein Künstlergespräch mit Stefan Sous und dem Leiter des Ressorts Kunst im öffentlichen Raum der Stadt Dortmund Dr. Jacques Heinrich Toussaint.  \nAm 15. März 2023 um 19:30 Uhr sprechen beide über das künstlerische Oeuvre Stefan Sous und wie man sich aktuelle Kunst im öffentlichen Raum vorstellen kann\, wie wir Konzepte der Kunst und diese in unserem Umfeld neu denken können. \nTreffpunkt: in der Rotunde des Museums für Kunst und Kulturgeschichte\, Hansastr. 3\, 44137 Dortmund \nEintritt frei! \nWeitere Infos
URL:https://dortmund-kreativ.de/event/meet-the-artist-ein-kuenstlergespraech-mit-stefan-sous/
LOCATION:Museum für Kunst und Kulturgeschichte\, Hansastraße 3\, Dortmund\, 44137
CATEGORIES:Bildende Kunst,Kreativquartiere,Stadtentwicklung,Urbane Kunst,Urbanität
END:VEVENT
BEGIN:VEVENT
DTSTART;TZID=Europe/Berlin:20230309T180000
DTEND;TZID=Europe/Berlin:20230309T200000
DTSTAMP:20260421T123448
CREATED:20230303T083859Z
LAST-MODIFIED:20230303T084112Z
UID:10000472-1678384800-1678392000@dortmund-kreativ.de
SUMMARY:MKK: Eröffnung 'Out of the Box.'
DESCRIPTION:Atelierfotografien aus der Sammlung Harald Mante\nOnline-Ausstellung mit Studienraum im MKK \nAm 09. März 2023 um 18 Uhr eröffnet das Museum für Kunst und Kulturgeschichte die Online-Ausstellung ‚Out of the box.‘ im Studienraum des MKK. \nBegrüßung: Dr. Jens Stöcker\, Direktor MKK \nEinführung: Sandra Happekotte\, Kuratorin \nDie Online-Ausstellung findet ihr ab dem 09. März 2023 unter kabinettkarten-mkk.de \nWeitere Infos findet ihr hier!  
URL:https://dortmund-kreativ.de/event/mkk-eroeffnung-out-of-the-box/
LOCATION:Museum für Kunst und Kulturgeschichte\, Hansastraße 3\, Dortmund\, 44137
CATEGORIES:Ausstellung,Fotografie,Kreativwirtschaft,Medien
END:VEVENT
BEGIN:VEVENT
DTSTART;TZID=Europe/Berlin:20201115T110000
DTEND;TZID=Europe/Berlin:20201115T180000
DTSTAMP:20260421T123448
CREATED:20200908T135558Z
LAST-MODIFIED:20200908T140149Z
UID:10000120-1605438000-1605463200@dortmund-kreativ.de
SUMMARY:Ausstellungseröffnung: Ruth Baumgarte – Lebenskunst
DESCRIPTION:  \nIn einer von radikalen Umbrüchen geprägten Zeit schuf Ruth Baumgarte (1923 – 2013) ein künstlerisches Lebenswerk\, in dem sie den Menschen und dessen fragiles Dasein im 20. Jahrhundert ins Zentrum stellt. Hellsichtig und präzise gegenüber den sozialen und gesellschaftlichen Fehlentwicklungen ihrer Zeit reicht ihr Werk von einfühlsamen Portraits über Darstellungen von Arbeitswelten und tagebuchartigen Reisebildern bis hin zu kritischen Reflexionen umweltpolitischer und sozialer Fragen am Ende des 20. Jahrhunderts. Ihr Werk kulminiert in einem etwa 100 Zeichnungen und Gemälde umfassenden Afrika-Zyklus\, Ergebnis ihrer 40 Reisen auf dem Kontinent. \nDie Übersichtsschau „Werde\, die du bist! Ruth Baumgarte – Lebenskunst“ leitet in vier thematischen Kapiteln mit circa 150 Zeichnungen\, Gemälden und historischen Dokumenten durch das Leben und Werk einer deutschen Künstlerin. Baumgarte wird dabei als gegenständlich arbeitende Künstlerin mit starkem Bezug zur Gegenwart vorgestellt – etwa\, wenn es um ihr Selbstverständnis als emanzipierte Frau geht\, um Themen wie Umweltzerstörung oder – in ihrem Afrika-Zyklus – um Vertreibung\, Migration und Flucht. Solche Themen behandelte sie lange\, bevor dazu ein kunsthistorischer Diskurs in der westlichen Welt einsetzte. \nRuth Baumgartes Arbeiten wurden seit 1947 in nationalen und internationalen Galerien und Institutionen gezeigt\, zuletzt im Ludwig Museum Koblenz (2017/18)\, im State Russian Museum\, St. Petersburg (2018) und im Städtischen Museum Braunschweig (2019). \nZur Ausstellung erscheint im Hirmer Verlag eine 192-seitige\, reich bebilderte Publikation in Deutsch und Englisch mit einem einführenden Essay des Kurators der Ausstellung Dr. Eckhart Gillen. \n15. November 2020 bis 21. Februar 2021 \nMuseum für Kunst und Kulturgeschichte\nHansastraße 3\n44137 Dortmund \nWeitere Informationen zur Ruth Baumgarte Ausstellung im MKK \n 
URL:https://dortmund-kreativ.de/event/ausstellungseroeffnung-ruth-baumgarte-lebenskunst/
LOCATION:Museum für Kunst und Kulturgeschichte\, Hansastraße 3\, Dortmund\, 44137
CATEGORIES:Ausstellung,Bildende Kunst,Kunstmarkt
END:VEVENT
END:VCALENDAR